BEGIN:VCALENDAR
VERSION:2.0
PRODID:-//Wrightwood Events - ECPv6.15.20//NONSGML v1.0//EN
CALSCALE:GREGORIAN
METHOD:PUBLISH
X-WR-CALNAME:Wrightwood Events
X-ORIGINAL-URL:https://wrightwoodevents.com
X-WR-CALDESC:Events for Wrightwood Events
REFRESH-INTERVAL;VALUE=DURATION:PT1H
X-Robots-Tag:noindex
X-PUBLISHED-TTL:PT1H
BEGIN:VTIMEZONE
TZID:America/Los_Angeles
BEGIN:DAYLIGHT
TZOFFSETFROM:-0800
TZOFFSETTO:-0700
TZNAME:PDT
DTSTART:20230312T100000
END:DAYLIGHT
BEGIN:STANDARD
TZOFFSETFROM:-0700
TZOFFSETTO:-0800
TZNAME:PST
DTSTART:20231105T090000
END:STANDARD
BEGIN:DAYLIGHT
TZOFFSETFROM:-0800
TZOFFSETTO:-0700
TZNAME:PDT
DTSTART:20240310T100000
END:DAYLIGHT
BEGIN:STANDARD
TZOFFSETFROM:-0700
TZOFFSETTO:-0800
TZNAME:PST
DTSTART:20241103T090000
END:STANDARD
BEGIN:DAYLIGHT
TZOFFSETFROM:-0800
TZOFFSETTO:-0700
TZNAME:PDT
DTSTART:20250309T100000
END:DAYLIGHT
BEGIN:STANDARD
TZOFFSETFROM:-0700
TZOFFSETTO:-0800
TZNAME:PST
DTSTART:20251102T090000
END:STANDARD
END:VTIMEZONE
BEGIN:VEVENT
DTSTART;TZID=America/Los_Angeles:20240627T180000
DTEND;TZID=America/Los_Angeles:20240627T210000
DTSTAMP:20260420T164441
CREATED:20240320T163256Z
LAST-MODIFIED:20240320T165933Z
UID:4215-1719511200-1719522000@wrightwoodevents.com
SUMMARY:Music in the Pines Concert Series
DESCRIPTION:Every two weeks starting this June 27th\, 2024 Wrightwood brings a chair downtown and listens to free music put on for relaxing and dancing.
URL:https://wrightwoodevents.com/event/music-in-the-pines-concert-series/
CATEGORIES:Music
ATTACH;FMTTYPE=image/jpeg:https://wrightwoodevents.com/wp-content/uploads/2024/03/20230810_201603.jpg
END:VEVENT
END:VCALENDAR