BEGIN:VCALENDAR
VERSION:2.0
PRODID:-//Wrightwood Events - ECPv6.15.20//NONSGML v1.0//EN
CALSCALE:GREGORIAN
METHOD:PUBLISH
X-ORIGINAL-URL:https://wrightwoodevents.com
X-WR-CALDESC:Events for Wrightwood Events
REFRESH-INTERVAL;VALUE=DURATION:PT1H
X-Robots-Tag:noindex
X-PUBLISHED-TTL:PT1H
BEGIN:VTIMEZONE
TZID:America/Los_Angeles
BEGIN:DAYLIGHT
TZOFFSETFROM:-0800
TZOFFSETTO:-0700
TZNAME:PDT
DTSTART:20220313T100000
END:DAYLIGHT
BEGIN:STANDARD
TZOFFSETFROM:-0700
TZOFFSETTO:-0800
TZNAME:PST
DTSTART:20221106T090000
END:STANDARD
BEGIN:DAYLIGHT
TZOFFSETFROM:-0800
TZOFFSETTO:-0700
TZNAME:PDT
DTSTART:20230312T100000
END:DAYLIGHT
BEGIN:STANDARD
TZOFFSETFROM:-0700
TZOFFSETTO:-0800
TZNAME:PST
DTSTART:20231105T090000
END:STANDARD
BEGIN:DAYLIGHT
TZOFFSETFROM:-0800
TZOFFSETTO:-0700
TZNAME:PDT
DTSTART:20240310T100000
END:DAYLIGHT
BEGIN:STANDARD
TZOFFSETFROM:-0700
TZOFFSETTO:-0800
TZNAME:PST
DTSTART:20241103T090000
END:STANDARD
END:VTIMEZONE
BEGIN:VEVENT
DTSTART;TZID=America/Los_Angeles:20231216T173000
DTEND;TZID=America/Los_Angeles:20231216T200000
DTSTAMP:20260420T092935
CREATED:20231122T031242Z
LAST-MODIFIED:20231122T154331Z
UID:3751-1702747800-1702756800@wrightwoodevents.com
SUMMARY:Two Nights of Lights
DESCRIPTION:WWPOA/WW Village trail keepers invite you to Two Nights of Lights Along the Wrightwood Village Trail Saturday December 16th and Sunday December 17th from 5:30 to 8:30 pm. The trail will be illuminated by 1000 Luminaria and solar lights. Come walk the trail \, enjoy the lights\, holiday decorations\, hot cocoa and music. \nElm St to Lone Pine St \nVolunteers are needed to help with setting up and taking down the lights\, decorating\, and providing music. \n  \nContact Russ Drew at (951) 453-7048 or choctawman63@gmail.com.
URL:https://wrightwoodevents.com/event/two-nights-of-lights/
ATTACH;FMTTYPE=image/jpeg:https://wrightwoodevents.com/wp-content/uploads/2023/11/IMG_20231121_095446.jpg
END:VEVENT
BEGIN:VEVENT
DTSTART;TZID=America/Los_Angeles:20231217T173000
DTEND;TZID=America/Los_Angeles:20231217T200000
DTSTAMP:20260420T092935
CREATED:20231122T031304Z
LAST-MODIFIED:20231122T154309Z
UID:3758-1702834200-1702843200@wrightwoodevents.com
SUMMARY:Two Nights of Lights
DESCRIPTION:WWPOA/WW Village trail keepers invite you to Two Nights of Lights Along the Wrightwood Village Trail Saturday December 16th and Sunday December 17th from 5:30 to 8:30 pm. The trail will be illuminated by 1000 Luminaria and solar lights. Come walk the trail \, enjoy the lights\, holiday decorations\, hot cocoa and music. \nElm St to Lone Pine St \nVolunteers are needed to help with setting up and taking down the lights\, decorating\, and providing music. \n  \nContact Russ Drew at (951) 453-7048 or choctawman63@gmail.com.
URL:https://wrightwoodevents.com/event/two-nights-of-lights-2/
ATTACH;FMTTYPE=image/jpeg:https://wrightwoodevents.com/wp-content/uploads/2023/11/IMG_20231121_095446.jpg
END:VEVENT
END:VCALENDAR