BEGIN:VCALENDAR
VERSION:2.0
PRODID:-//Wrightwood Events - ECPv6.15.20//NONSGML v1.0//EN
CALSCALE:GREGORIAN
METHOD:PUBLISH
X-WR-CALNAME:Wrightwood Events
X-ORIGINAL-URL:https://wrightwoodevents.com
X-WR-CALDESC:Events for Wrightwood Events
REFRESH-INTERVAL;VALUE=DURATION:PT1H
X-Robots-Tag:noindex
X-PUBLISHED-TTL:PT1H
BEGIN:VTIMEZONE
TZID:America/Los_Angeles
BEGIN:DAYLIGHT
TZOFFSETFROM:-0800
TZOFFSETTO:-0700
TZNAME:PDT
DTSTART:20220313T100000
END:DAYLIGHT
BEGIN:STANDARD
TZOFFSETFROM:-0700
TZOFFSETTO:-0800
TZNAME:PST
DTSTART:20221106T090000
END:STANDARD
BEGIN:DAYLIGHT
TZOFFSETFROM:-0800
TZOFFSETTO:-0700
TZNAME:PDT
DTSTART:20230312T100000
END:DAYLIGHT
BEGIN:STANDARD
TZOFFSETFROM:-0700
TZOFFSETTO:-0800
TZNAME:PST
DTSTART:20231105T090000
END:STANDARD
BEGIN:DAYLIGHT
TZOFFSETFROM:-0800
TZOFFSETTO:-0700
TZNAME:PDT
DTSTART:20240310T100000
END:DAYLIGHT
BEGIN:STANDARD
TZOFFSETFROM:-0700
TZOFFSETTO:-0800
TZNAME:PST
DTSTART:20241103T090000
END:STANDARD
END:VTIMEZONE
BEGIN:VEVENT
DTSTART;TZID=America/Los_Angeles:20230805T100000
DTEND;TZID=America/Los_Angeles:20230805T130000
DTSTAMP:20260420T143026
CREATED:20230620T011939Z
LAST-MODIFIED:20230620T011939Z
UID:3418-1691229600-1691240400@wrightwoodevents.com
SUMMARY:Smokey Bear's Birthday Party
DESCRIPTION:Celebrate Smokey Bear’s Birthday. \nThere will be cake\, as well as arts and crafts for the children\, tours\, and hikes. \nThe U.S.  Forest Service Fire will be there with  their engine and equipment. \nSmokey Bear’s Birthday celebration is Saturday\, August 5\, 2023 from 10-1 at Big Pines Visitor Center. \nSmokey will be there to greet our visitors and there will be birthday cake.  Our USFS Fire crew will be there with their engine and equipment.  There will be crafts for children\, hikes\,and tours.  The event is free; however\, an Adventure Pass might be needed is some parking locations around the center.  The Big Pines Visitor Center is located at 24537 CA Highway 2 and is staffed by volunteers weekends 10-4. \n760-249-3504 \nwww.vanfbigpines.org \n\nThe event is put on by the Volunteers of the Angeles National Forest.
URL:https://wrightwoodevents.com/event/smokey-bears-birthday-party/
LOCATION:Big Pines Visitor Center\, 24537 CA Highway 2\, Wrightwood\, CA\, 92397\, United States
CATEGORIES:Resident Filter,Visitor Filter
ATTACH;FMTTYPE=image/jpeg:https://wrightwoodevents.com/wp-content/uploads/2023/06/Smokey.jpg
ORGANIZER;CN="Chamber of Commerce":MAILTO:wwchamberoffice@gmail.com
END:VEVENT
END:VCALENDAR