BEGIN:VCALENDAR
VERSION:2.0
PRODID:-//Wrightwood Events - ECPv6.15.20//NONSGML v1.0//EN
CALSCALE:GREGORIAN
METHOD:PUBLISH
X-ORIGINAL-URL:https://wrightwoodevents.com
X-WR-CALDESC:Events for Wrightwood Events
REFRESH-INTERVAL;VALUE=DURATION:PT1H
X-Robots-Tag:noindex
X-PUBLISHED-TTL:PT1H
BEGIN:VTIMEZONE
TZID:America/Los_Angeles
BEGIN:DAYLIGHT
TZOFFSETFROM:-0800
TZOFFSETTO:-0700
TZNAME:PDT
DTSTART:20230312T100000
END:DAYLIGHT
BEGIN:STANDARD
TZOFFSETFROM:-0700
TZOFFSETTO:-0800
TZNAME:PST
DTSTART:20231105T090000
END:STANDARD
BEGIN:DAYLIGHT
TZOFFSETFROM:-0800
TZOFFSETTO:-0700
TZNAME:PDT
DTSTART:20240310T100000
END:DAYLIGHT
BEGIN:STANDARD
TZOFFSETFROM:-0700
TZOFFSETTO:-0800
TZNAME:PST
DTSTART:20241103T090000
END:STANDARD
BEGIN:DAYLIGHT
TZOFFSETFROM:-0800
TZOFFSETTO:-0700
TZNAME:PDT
DTSTART:20250309T100000
END:DAYLIGHT
BEGIN:STANDARD
TZOFFSETFROM:-0700
TZOFFSETTO:-0800
TZNAME:PST
DTSTART:20251102T090000
END:STANDARD
END:VTIMEZONE
BEGIN:VTIMEZONE
TZID:America/Los_Angeles
BEGIN:DAYLIGHT
TZOFFSETFROM:-0800
TZOFFSETTO:-0700
TZNAME:PDT
DTSTART:20220313T100000
END:DAYLIGHT
BEGIN:STANDARD
TZOFFSETFROM:-0700
TZOFFSETTO:-0800
TZNAME:PST
DTSTART:20221106T090000
END:STANDARD
BEGIN:DAYLIGHT
TZOFFSETFROM:-0800
TZOFFSETTO:-0700
TZNAME:PDT
DTSTART:20230312T100000
END:DAYLIGHT
BEGIN:STANDARD
TZOFFSETFROM:-0700
TZOFFSETTO:-0800
TZNAME:PST
DTSTART:20231105T090000
END:STANDARD
BEGIN:DAYLIGHT
TZOFFSETFROM:-0800
TZOFFSETTO:-0700
TZNAME:PDT
DTSTART:20240310T100000
END:DAYLIGHT
BEGIN:STANDARD
TZOFFSETFROM:-0700
TZOFFSETTO:-0800
TZNAME:PST
DTSTART:20241103T090000
END:STANDARD
BEGIN:DAYLIGHT
TZOFFSETFROM:-0800
TZOFFSETTO:-0700
TZNAME:PDT
DTSTART:20250309T100000
END:DAYLIGHT
BEGIN:STANDARD
TZOFFSETFROM:-0700
TZOFFSETTO:-0800
TZNAME:PST
DTSTART:20251102T090000
END:STANDARD
END:VTIMEZONE
BEGIN:VEVENT
DTSTART;TZID=America/Los_Angeles:20240101T083000
DTEND;TZID=America/Los_Angeles:20240101T093000
DTSTAMP:20260419T225230
CREATED:20231223T215343Z
LAST-MODIFIED:20231223T215343Z
UID:3806-1704097800-1704101400@wrightwoodevents.com
SUMMARY:Health & Wellness Class
DESCRIPTION:
URL:https://wrightwoodevents.com/event/health-wellness-class-4/
LOCATION:Old Firehouse\, 6000 Cedar St.\,  Wrightwood\, CA\, 92397\, United States\, 6000 Cedar St.\, Wrightwood\, CA\, 92397\, United States
CATEGORIES:Resident Filter,Visitor Filter
ATTACH;FMTTYPE=image/jpeg:https://wrightwoodevents.com/wp-content/uploads/2023/12/323116914_3373658756248561_5291816309449296766_n.jpg
END:VEVENT
BEGIN:VEVENT
DTSTART;TZID=America/Los_Angeles:20240201T160000
DTEND;TZID=America/Los_Angeles:20240201T210000
DTSTAMP:20260419T225230
CREATED:20231223T223617Z
LAST-MODIFIED:20231223T223617Z
UID:3830-1706803200-1706821200@wrightwoodevents.com
SUMMARY:Bingo Game Night
DESCRIPTION:
URL:https://wrightwoodevents.com/event/bingo-game-night-6/
LOCATION:Community Building\, 1275 Hwy 2\, Wrightwood\, CA\, 92397\, United States
CATEGORIES:Resident Filter,Visitor Filter
ATTACH;FMTTYPE=image/jpeg:https://wrightwoodevents.com/wp-content/uploads/2023/03/Bingo.jpg
ORGANIZER;CN="Timberline Lions Club of Wrightwood":MAILTO:vic3407@gmail.com
END:VEVENT
BEGIN:VEVENT
DTSTART;TZID=America/Los_Angeles:20240105T160000
DTEND;TZID=America/Los_Angeles:20240105T190000
DTSTAMP:20260419T225230
CREATED:20240105T200942Z
LAST-MODIFIED:20250328T211050Z
UID:3916-1704470400-1704481200@wrightwoodevents.com
SUMMARY:Wrightwood Farmers Market
DESCRIPTION:Farmers Market providing the Tri-Community with local produce\, baked goods\, honey\, olive oil\, bread\, and more. \nFridays 4-7pm \n \n 
URL:https://wrightwoodevents.com/event/wrightwood-farmers-market-2/
LOCATION:Community Building\, 1275 Hwy 2\, Wrightwood\, CA\, 92397\, United States
ATTACH;FMTTYPE=image/jpeg:https://wrightwoodevents.com/wp-content/uploads/2023/03/Farmers-Market.jpg
END:VEVENT
BEGIN:VEVENT
DTSTART;VALUE=DATE:20230902
DTEND;VALUE=DATE:20230903
DTSTAMP:20260419T225230
CREATED:20230902T143632Z
LAST-MODIFIED:20240301T160033Z
UID:3611-1693612800-1693699199@wrightwoodevents.com
SUMMARY:THE Sport SIM
DESCRIPTION:The Sport Sim of Wrightwood! \nWe are excited to introduce Wrightwood’s first Golf Simulator and Inline Hockey Shooting Bay. \nPlay your favorite course or tee off on the driving range. \nIf you want to try your skills at inline hockey\, the interactive games will test your abilities and maybe you have what it takes to become a PLAYER! \nOPEN Wednesdays 4:30pm to 9pm \nOPEN Saturdays 11am to 9pm \nOPEN Sundays 11am to 8pm
URL:https://wrightwoodevents.com/event/the-sport-sim/
LOCATION:THE Sport SIM\, 1350 State Highway 2\, Wrightwood\, CA\, 92397\, United States
CATEGORIES:Music,Resident Filter,Visitor Filter
ATTACH;FMTTYPE=image/jpeg:https://wrightwoodevents.com/wp-content/uploads/2023/07/The-Sport-Sim.jpg
ORGANIZER;CN="Team RDP Wrightwood Real Estate":MAILTO:eddielimbaga@gmail.com
END:VEVENT
BEGIN:VEVENT
DTSTART;TZID=America/Los_Angeles:20230902T100000
DTEND;TZID=America/Los_Angeles:20230902T160000
DTSTAMP:20260419T225230
CREATED:20230901T230054Z
LAST-MODIFIED:20230901T231351Z
UID:3593-1693648800-1693670400@wrightwoodevents.com
SUMMARY:Wrightwood History Museum
DESCRIPTION:Wrightwood History Museum\nOpen Hours Saturday 10AM – 4PM \n \n 
URL:https://wrightwoodevents.com/event/wrightwood-history-museum/
LOCATION:Old Firehouse\, 6000 Cedar St\, Wrightwood\, CA\, 92397\, United States
ATTACH;FMTTYPE=image/png:https://wrightwoodevents.com/wp-content/uploads/2023/04/Historical-Society.png
END:VEVENT
BEGIN:VEVENT
DTSTART;TZID=America/Los_Angeles:20240203T120000
DTEND;TZID=America/Los_Angeles:20240203T140000
DTSTAMP:20260419T225230
CREATED:20240202T232949Z
LAST-MODIFIED:20240202T232949Z
UID:4053-1706961600-1706968800@wrightwoodevents.com
SUMMARY:Native Plant Workshop
DESCRIPTION:Come and enjoy a workshop presented by Transition Habitat Conservancy. They will speak about native plants and provide milkweed seed bombs for those wanting to support our butterfly populations this spring!
URL:https://wrightwoodevents.com/event/native-plant-workshop/
LOCATION:Community Art Center & Gallery\, 6045 Park Dr\, Wrightwood\, 92397\, United States
CATEGORIES:Resident Filter,Visitor Filter
ATTACH;FMTTYPE=image/png:https://wrightwoodevents.com/wp-content/uploads/2024/02/download-1.png
END:VEVENT
BEGIN:VEVENT
DTSTART;VALUE=DATE:20240107
DTEND;VALUE=DATE:20240108
DTSTAMP:20260419T225230
CREATED:20231229T222731Z
LAST-MODIFIED:20240719T144854Z
UID:3871-1704585600-1704671999@wrightwoodevents.com
SUMMARY:THE Sport SIM
DESCRIPTION:The Sport Sim of Wrightwood! \nWe are excited to introduce Wrightwood’s first Golf Simulator and Inline Hockey Shooting Bay. \nPlay your favorite course or tee off on the driving range. \nIf you want to try your skills at inline hockey\, the interactive games will test your abilities and maybe you have what it takes to become a PLAYER! \nOPEN Monday to Thursday 3pm to 7pm \nOPEN Friday 3pm to 9pm \nOPEN Saturdays 11am to 9pm \nOPEN Sundays 11am to 8pm
URL:https://wrightwoodevents.com/event/the-sport-sim-2-2/
LOCATION:THE Sport SIM\, 1350 State Highway 2\, Wrightwood\, CA\, 92397\, United States
CATEGORIES:Music,Resident Filter,Visitor Filter
ATTACH;FMTTYPE=image/jpeg:https://wrightwoodevents.com/wp-content/uploads/2023/07/The-Sport-Sim.jpg
ORGANIZER;CN="Team RDP Wrightwood Real Estate":MAILTO:eddielimbaga@gmail.com
END:VEVENT
BEGIN:VEVENT
DTSTART;TZID=America/Los_Angeles:20240101T083000
DTEND;TZID=America/Los_Angeles:20240101T093000
DTSTAMP:20260419T225230
CREATED:20231223T215343Z
LAST-MODIFIED:20231223T215343Z
UID:3806-1704097800-1704101400@wrightwoodevents.com
SUMMARY:Health & Wellness Class
DESCRIPTION:
URL:https://wrightwoodevents.com/event/health-wellness-class-4/
LOCATION:Old Firehouse\, 6000 Cedar St.\,  Wrightwood\, CA\, 92397\, United States\, 6000 Cedar St.\, Wrightwood\, CA\, 92397\, United States
CATEGORIES:Resident Filter,Visitor Filter
ATTACH;FMTTYPE=image/jpeg:https://wrightwoodevents.com/wp-content/uploads/2023/12/323116914_3373658756248561_5291816309449296766_n.jpg
END:VEVENT
BEGIN:VEVENT
DTSTART;TZID=America/Los_Angeles:20231225T093000
DTEND;TZID=America/Los_Angeles:20231225T110000
DTSTAMP:20260419T225230
CREATED:20231223T214617Z
LAST-MODIFIED:20231223T215539Z
UID:3799-1703496600-1703502000@wrightwoodevents.com
SUMMARY:Fitness in The Forest
DESCRIPTION:
URL:https://wrightwoodevents.com/event/fitness-in-the-forest/
LOCATION:Community Building\, 1275 Hwy 2\, Wrightwood\, CA\, 92397\, United States
CATEGORIES:Resident Filter,Visitor Filter
ATTACH;FMTTYPE=image/png:https://wrightwoodevents.com/wp-content/uploads/2023/12/Fitness-in-Forest.png
ORGANIZER;CN="Timberline Lions Club of Wrightwood":MAILTO:vic3407@gmail.com
END:VEVENT
BEGIN:VEVENT
DTSTART;TZID=America/Los_Angeles:20230627T090000
DTEND;TZID=America/Los_Angeles:20230627T110000
DTSTAMP:20260419T225230
CREATED:20230621T010742Z
LAST-MODIFIED:20230621T010742Z
UID:3452-1687856400-1687863600@wrightwoodevents.com
SUMMARY:Line Dancing
DESCRIPTION:Line Dancing at the CSD. \nTell your friends!
URL:https://wrightwoodevents.com/event/line-dancing/
LOCATION:Wrightwood Community Center\, 1275 Angeles Crest Hwy\, Wrightwood\, CA\, 92397\, United States
ORGANIZER;CN="Wrightwood CSD":MAILTO:office@wrightwoodcsd.org
END:VEVENT
BEGIN:VEVENT
DTSTART;TZID=America/Los_Angeles:20240101T083000
DTEND;TZID=America/Los_Angeles:20240101T093000
DTSTAMP:20260419T225230
CREATED:20231223T215343Z
LAST-MODIFIED:20231223T215343Z
UID:3806-1704097800-1704101400@wrightwoodevents.com
SUMMARY:Health & Wellness Class
DESCRIPTION:
URL:https://wrightwoodevents.com/event/health-wellness-class-4/
LOCATION:Old Firehouse\, 6000 Cedar St.\,  Wrightwood\, CA\, 92397\, United States\, 6000 Cedar St.\, Wrightwood\, CA\, 92397\, United States
CATEGORIES:Resident Filter,Visitor Filter
ATTACH;FMTTYPE=image/jpeg:https://wrightwoodevents.com/wp-content/uploads/2023/12/323116914_3373658756248561_5291816309449296766_n.jpg
END:VEVENT
BEGIN:VEVENT
DTSTART;TZID=America/Los_Angeles:20240101T083000
DTEND;TZID=America/Los_Angeles:20240101T093000
DTSTAMP:20260419T225230
CREATED:20231223T215343Z
LAST-MODIFIED:20231223T215343Z
UID:3806-1704097800-1704101400@wrightwoodevents.com
SUMMARY:Health & Wellness Class
DESCRIPTION:
URL:https://wrightwoodevents.com/event/health-wellness-class-4/
LOCATION:Old Firehouse\, 6000 Cedar St.\,  Wrightwood\, CA\, 92397\, United States\, 6000 Cedar St.\, Wrightwood\, CA\, 92397\, United States
CATEGORIES:Resident Filter,Visitor Filter
ATTACH;FMTTYPE=image/jpeg:https://wrightwoodevents.com/wp-content/uploads/2023/12/323116914_3373658756248561_5291816309449296766_n.jpg
END:VEVENT
BEGIN:VEVENT
DTSTART;TZID=America/Los_Angeles:20240209T080000
DTEND;TZID=America/Los_Angeles:20240209T110000
DTSTAMP:20260419T225230
CREATED:20231223T223723Z
LAST-MODIFIED:20231223T223723Z
UID:3832-1707465600-1707476400@wrightwoodevents.com
SUMMARY:Tri-Community Co-op
DESCRIPTION:Facebook Page: https://www.facebook.com/TriCommunityCoop/
URL:https://wrightwoodevents.com/event/tri-community-co-op-16/
LOCATION:Community Building\, 1275 Hwy 2\, Wrightwood\, CA\, 92397\, United States
CATEGORIES:Resident Filter
ATTACH;FMTTYPE=image/png:https://wrightwoodevents.com/wp-content/uploads/2023/03/IMG_3477.png
ORGANIZER;CN="Tri-Community Co-op":MAILTO:tricommunitycoop@gmail.com
END:VEVENT
BEGIN:VEVENT
DTSTART;TZID=America/Los_Angeles:20240105T160000
DTEND;TZID=America/Los_Angeles:20240105T190000
DTSTAMP:20260419T225230
CREATED:20240105T200942Z
LAST-MODIFIED:20250328T211050Z
UID:3916-1704470400-1704481200@wrightwoodevents.com
SUMMARY:Wrightwood Farmers Market
DESCRIPTION:Farmers Market providing the Tri-Community with local produce\, baked goods\, honey\, olive oil\, bread\, and more. \nFridays 4-7pm \n \n 
URL:https://wrightwoodevents.com/event/wrightwood-farmers-market-2/
LOCATION:Community Building\, 1275 Hwy 2\, Wrightwood\, CA\, 92397\, United States
ATTACH;FMTTYPE=image/jpeg:https://wrightwoodevents.com/wp-content/uploads/2023/03/Farmers-Market.jpg
END:VEVENT
BEGIN:VEVENT
DTSTART;TZID=America/Los_Angeles:20240209T160000
DTEND;TZID=America/Los_Angeles:20240209T190000
DTSTAMP:20260419T225230
CREATED:20240209T232637Z
LAST-MODIFIED:20240209T232637Z
UID:4062-1707494400-1707505200@wrightwoodevents.com
SUMMARY:Artist Gallery Opening
DESCRIPTION:Come enjoy a free night of art and community\, showcasing Peter Castignetti and his great artwork. No RSVP needed!!
URL:https://wrightwoodevents.com/event/artist-gallery-opening/
LOCATION:Community Art Center & Gallery\, 6045 Park Dr\, Wrightwood\, 92397\, United States
CATEGORIES:Resident Filter,Visitor Filter
ATTACH;FMTTYPE=image/png:https://wrightwoodevents.com/wp-content/uploads/2024/02/download.png
END:VEVENT
BEGIN:VEVENT
DTSTART;TZID=America/Los_Angeles:20240209T200000
DTEND;TZID=America/Los_Angeles:20240209T230000
DTSTAMP:20260419T225230
CREATED:20240209T233126Z
LAST-MODIFIED:20240209T233728Z
UID:4066-1707508800-1707519600@wrightwoodevents.com
SUMMARY:The Yodelers Blues Night Open Mic
DESCRIPTION:Come and enjoy some Blues Open Mic at the Yodeler Bar and Grill! Music by featured artist Mark Barrera. Sing\, play & dance with the house band.  Presented by the Wrightwood Blues Society. Food & beverages available.
URL:https://wrightwoodevents.com/event/the-yodelers-blues-night-open-mic-2/
LOCATION:The Yodeler\, 6046 Park Drive\, Wrightwood\, CA\, 92397\, United States
CATEGORIES:Food,Music,Resident Filter,Visitor Filter
ATTACH;FMTTYPE=image/jpeg:https://wrightwoodevents.com/wp-content/uploads/2024/01/OCT-2022-2022yodeler352.jpg
END:VEVENT
BEGIN:VEVENT
DTSTART;VALUE=DATE:20230902
DTEND;VALUE=DATE:20230903
DTSTAMP:20260419T225230
CREATED:20230902T143632Z
LAST-MODIFIED:20240301T160033Z
UID:3611-1693612800-1693699199@wrightwoodevents.com
SUMMARY:THE Sport SIM
DESCRIPTION:The Sport Sim of Wrightwood! \nWe are excited to introduce Wrightwood’s first Golf Simulator and Inline Hockey Shooting Bay. \nPlay your favorite course or tee off on the driving range. \nIf you want to try your skills at inline hockey\, the interactive games will test your abilities and maybe you have what it takes to become a PLAYER! \nOPEN Wednesdays 4:30pm to 9pm \nOPEN Saturdays 11am to 9pm \nOPEN Sundays 11am to 8pm
URL:https://wrightwoodevents.com/event/the-sport-sim/
LOCATION:THE Sport SIM\, 1350 State Highway 2\, Wrightwood\, CA\, 92397\, United States
CATEGORIES:Music,Resident Filter,Visitor Filter
ATTACH;FMTTYPE=image/jpeg:https://wrightwoodevents.com/wp-content/uploads/2023/07/The-Sport-Sim.jpg
ORGANIZER;CN="Team RDP Wrightwood Real Estate":MAILTO:eddielimbaga@gmail.com
END:VEVENT
BEGIN:VEVENT
DTSTART;TZID=America/Los_Angeles:20230902T100000
DTEND;TZID=America/Los_Angeles:20230902T160000
DTSTAMP:20260419T225230
CREATED:20230901T230054Z
LAST-MODIFIED:20230901T231351Z
UID:3593-1693648800-1693670400@wrightwoodevents.com
SUMMARY:Wrightwood History Museum
DESCRIPTION:Wrightwood History Museum\nOpen Hours Saturday 10AM – 4PM \n \n 
URL:https://wrightwoodevents.com/event/wrightwood-history-museum/
LOCATION:Old Firehouse\, 6000 Cedar St\, Wrightwood\, CA\, 92397\, United States
ATTACH;FMTTYPE=image/png:https://wrightwoodevents.com/wp-content/uploads/2023/04/Historical-Society.png
END:VEVENT
BEGIN:VEVENT
DTSTART;TZID=America/Los_Angeles:20240210T120000
DTEND;TZID=America/Los_Angeles:20240210T140000
DTSTAMP:20260419T225230
CREATED:20240209T234021Z
LAST-MODIFIED:20240209T234021Z
UID:4070-1707566400-1707573600@wrightwoodevents.com
SUMMARY:Writers Meet Up
DESCRIPTION:This FREE meet-up is for all the writers in the Tri-Community. Come meet local writers and enjoy light refreshments!
URL:https://wrightwoodevents.com/event/writers-meet-up/
LOCATION:Community Art Center & Gallery\, 6045 Park Dr\, Wrightwood\, 92397\, United States
CATEGORIES:Resident Filter,Visitor Filter
ATTACH;FMTTYPE=image/png:https://wrightwoodevents.com/wp-content/uploads/2024/02/download.png
END:VEVENT
BEGIN:VEVENT
DTSTART;TZID=America/Los_Angeles:20240210T143000
DTEND;TZID=America/Los_Angeles:20240210T160000
DTSTAMP:20260419T225230
CREATED:20240210T204305Z
LAST-MODIFIED:20240210T204344Z
UID:4079-1707575400-1707580800@wrightwoodevents.com
SUMMARY:Yoga For Mothers
DESCRIPTION:Come and enjoy a three week yoga mini series for Busy moms\, Grand moms\, and Soon-To-Be moms.
URL:https://wrightwoodevents.com/event/mom-yoga/
LOCATION:Love Rootes Yoga\, 1329 State Highway 2\, Wrightwood\, CA\, 92397\, United States
CATEGORIES:Resident Filter,Visitor Filter
ATTACH;FMTTYPE=image/jpeg:https://wrightwoodevents.com/wp-content/uploads/2024/02/426721455_907996430870790_1136664611736814070_n.jpg
END:VEVENT
BEGIN:VEVENT
DTSTART;TZID=America/Los_Angeles:20240210T160000
DTEND;TZID=America/Los_Angeles:20240210T173000
DTSTAMP:20260419T225230
CREATED:20240209T234434Z
LAST-MODIFIED:20240209T234434Z
UID:4072-1707580800-1707586200@wrightwoodevents.com
SUMMARY:Paint and Sip Workshop
DESCRIPTION:Learn to paint a beautiful masterpiece! This event includes all supplies needed and a variety of drinks. This is a Adult event 21+. \n  \nPre-registration is required via Eventbrite. \nPrice is $30\,
URL:https://wrightwoodevents.com/event/paint-and-sip-workshop/
LOCATION:Community Art Center & Gallery\, 6045 Park Dr\, Wrightwood\, 92397\, United States
CATEGORIES:Resident Filter,Visitor Filter
ATTACH;FMTTYPE=image/jpeg:https://wrightwoodevents.com/wp-content/uploads/2023/11/CH_PaintSip.jpg
END:VEVENT
BEGIN:VEVENT
DTSTART;VALUE=DATE:20240107
DTEND;VALUE=DATE:20240108
DTSTAMP:20260419T225230
CREATED:20231229T222731Z
LAST-MODIFIED:20240719T144854Z
UID:3871-1704585600-1704671999@wrightwoodevents.com
SUMMARY:THE Sport SIM
DESCRIPTION:The Sport Sim of Wrightwood! \nWe are excited to introduce Wrightwood’s first Golf Simulator and Inline Hockey Shooting Bay. \nPlay your favorite course or tee off on the driving range. \nIf you want to try your skills at inline hockey\, the interactive games will test your abilities and maybe you have what it takes to become a PLAYER! \nOPEN Monday to Thursday 3pm to 7pm \nOPEN Friday 3pm to 9pm \nOPEN Saturdays 11am to 9pm \nOPEN Sundays 11am to 8pm
URL:https://wrightwoodevents.com/event/the-sport-sim-2-2/
LOCATION:THE Sport SIM\, 1350 State Highway 2\, Wrightwood\, CA\, 92397\, United States
CATEGORIES:Music,Resident Filter,Visitor Filter
ATTACH;FMTTYPE=image/jpeg:https://wrightwoodevents.com/wp-content/uploads/2023/07/The-Sport-Sim.jpg
ORGANIZER;CN="Team RDP Wrightwood Real Estate":MAILTO:eddielimbaga@gmail.com
END:VEVENT
BEGIN:VEVENT
DTSTART;TZID=America/Los_Angeles:20240211T100000
DTEND;TZID=America/Los_Angeles:20240211T110000
DTSTAMP:20260419T225230
CREATED:20240209T235134Z
LAST-MODIFIED:20240209T235134Z
UID:4074-1707645600-1707649200@wrightwoodevents.com
SUMMARY:Partner Yoga Valentine Delight
DESCRIPTION:Come with your partner\, spouse\, or pal and enjoy some gentle partner yoga!
URL:https://wrightwoodevents.com/event/partner-yoga-valentine-delight/
LOCATION:Love Rootes Yoga\, 1329 State Highway 2\, Wrightwood\, CA\, 92397\, United States
CATEGORIES:Resident Filter,Visitor Filter
ATTACH;FMTTYPE=image/jpeg:https://wrightwoodevents.com/wp-content/uploads/2024/02/65aed5a14b204.jpg
END:VEVENT
BEGIN:VEVENT
DTSTART;TZID=America/Los_Angeles:20240101T083000
DTEND;TZID=America/Los_Angeles:20240101T093000
DTSTAMP:20260419T225230
CREATED:20231223T215343Z
LAST-MODIFIED:20231223T215343Z
UID:3806-1704097800-1704101400@wrightwoodevents.com
SUMMARY:Health & Wellness Class
DESCRIPTION:
URL:https://wrightwoodevents.com/event/health-wellness-class-4/
LOCATION:Old Firehouse\, 6000 Cedar St.\,  Wrightwood\, CA\, 92397\, United States\, 6000 Cedar St.\, Wrightwood\, CA\, 92397\, United States
CATEGORIES:Resident Filter,Visitor Filter
ATTACH;FMTTYPE=image/jpeg:https://wrightwoodevents.com/wp-content/uploads/2023/12/323116914_3373658756248561_5291816309449296766_n.jpg
END:VEVENT
BEGIN:VEVENT
DTSTART;TZID=America/Los_Angeles:20231225T093000
DTEND;TZID=America/Los_Angeles:20231225T110000
DTSTAMP:20260419T225230
CREATED:20231223T214617Z
LAST-MODIFIED:20231223T215539Z
UID:3799-1703496600-1703502000@wrightwoodevents.com
SUMMARY:Fitness in The Forest
DESCRIPTION:
URL:https://wrightwoodevents.com/event/fitness-in-the-forest/
LOCATION:Community Building\, 1275 Hwy 2\, Wrightwood\, CA\, 92397\, United States
CATEGORIES:Resident Filter,Visitor Filter
ATTACH;FMTTYPE=image/png:https://wrightwoodevents.com/wp-content/uploads/2023/12/Fitness-in-Forest.png
ORGANIZER;CN="Timberline Lions Club of Wrightwood":MAILTO:vic3407@gmail.com
END:VEVENT
BEGIN:VEVENT
DTSTART;TZID=America/Los_Angeles:20230627T090000
DTEND;TZID=America/Los_Angeles:20230627T110000
DTSTAMP:20260419T225230
CREATED:20230621T010742Z
LAST-MODIFIED:20230621T010742Z
UID:3452-1687856400-1687863600@wrightwoodevents.com
SUMMARY:Line Dancing
DESCRIPTION:Line Dancing at the CSD. \nTell your friends!
URL:https://wrightwoodevents.com/event/line-dancing/
LOCATION:Wrightwood Community Center\, 1275 Angeles Crest Hwy\, Wrightwood\, CA\, 92397\, United States
ORGANIZER;CN="Wrightwood CSD":MAILTO:office@wrightwoodcsd.org
END:VEVENT
BEGIN:VEVENT
DTSTART;TZID=America/Los_Angeles:20240213T180000
DTEND;TZID=America/Los_Angeles:20240213T203000
DTSTAMP:20260419T225230
CREATED:20231223T224018Z
LAST-MODIFIED:20231223T224018Z
UID:3834-1707847200-1707856200@wrightwoodevents.com
SUMMARY:Pine Needles Quilt Guild
DESCRIPTION:Organizer\n\nPine Needles Quilt Guild\nPhone:\n760-408-3545\nEmail:\nlynnjcrawford@gmail.com
URL:https://wrightwoodevents.com/event/pine-needles-quilt-guild-9/
LOCATION:CSD Building\, 1275 Hwy 2\, Wrightwood\, CA\, 92397\, United States
CATEGORIES:Resident Filter,Visitor Filter
ATTACH;FMTTYPE=image/webp:https://wrightwoodevents.com/wp-content/uploads/2023/03/Quilting.webp
END:VEVENT
BEGIN:VEVENT
DTSTART;TZID=America/Los_Angeles:20240101T083000
DTEND;TZID=America/Los_Angeles:20240101T093000
DTSTAMP:20260419T225230
CREATED:20231223T215343Z
LAST-MODIFIED:20231223T215343Z
UID:3806-1704097800-1704101400@wrightwoodevents.com
SUMMARY:Health & Wellness Class
DESCRIPTION:
URL:https://wrightwoodevents.com/event/health-wellness-class-4/
LOCATION:Old Firehouse\, 6000 Cedar St.\,  Wrightwood\, CA\, 92397\, United States\, 6000 Cedar St.\, Wrightwood\, CA\, 92397\, United States
CATEGORIES:Resident Filter,Visitor Filter
ATTACH;FMTTYPE=image/jpeg:https://wrightwoodevents.com/wp-content/uploads/2023/12/323116914_3373658756248561_5291816309449296766_n.jpg
END:VEVENT
BEGIN:VEVENT
DTSTART;TZID=America/Los_Angeles:20240214T093000
DTEND;TZID=America/Los_Angeles:20240214T110000
DTSTAMP:20260419T225230
CREATED:20231223T224127Z
LAST-MODIFIED:20231223T230135Z
UID:3836-1707903000-1707908400@wrightwoodevents.com
SUMMARY:WWPOA Board Meeting
DESCRIPTION:
URL:https://wrightwoodevents.com/event/wwpoa-board-meeting-2/
LOCATION:Old Firehouse\, 6000 Cedar St.\,  Wrightwood\, CA\, 92397\, United States\, 6000 Cedar St.\, Wrightwood\, CA\, 92397\, United States
CATEGORIES:Resident Filter
ATTACH;FMTTYPE=image/jpeg:https://wrightwoodevents.com/wp-content/uploads/2023/12/logoCLRwwpoa.jpeg
END:VEVENT
BEGIN:VEVENT
DTSTART;TZID=America/Los_Angeles:20240214T110000
DTEND;TZID=America/Los_Angeles:20240214T130000
DTSTAMP:20260419T225230
CREATED:20240127T192708Z
LAST-MODIFIED:20240127T192708Z
UID:4048-1707908400-1707915600@wrightwoodevents.com
SUMMARY:Senior Valentines Day Lunch Special Event
DESCRIPTION:Come and enjoy a special valentines day meal\, desert\, and refreshments!
URL:https://wrightwoodevents.com/event/senior-valentines-day-lunch-special-event/
LOCATION:Community Building\, 1275 Hwy 2\, Wrightwood\, CA\, 92397\, United States
CATEGORIES:Resident Filter,Visitor Filter
ATTACH;FMTTYPE=image/jpeg:https://wrightwoodevents.com/wp-content/uploads/2024/01/Parks-and-Recreation-Facebook-Post1-800x671-1.jpg
END:VEVENT
END:VCALENDAR