BEGIN:VCALENDAR
VERSION:2.0
PRODID:-//Wrightwood Events - ECPv6.15.20//NONSGML v1.0//EN
CALSCALE:GREGORIAN
METHOD:PUBLISH
X-ORIGINAL-URL:https://wrightwoodevents.com
X-WR-CALDESC:Events for Wrightwood Events
REFRESH-INTERVAL;VALUE=DURATION:PT1H
X-Robots-Tag:noindex
X-PUBLISHED-TTL:PT1H
BEGIN:VTIMEZONE
TZID:America/Los_Angeles
BEGIN:DAYLIGHT
TZOFFSETFROM:-0800
TZOFFSETTO:-0700
TZNAME:PDT
DTSTART:20220313T100000
END:DAYLIGHT
BEGIN:STANDARD
TZOFFSETFROM:-0700
TZOFFSETTO:-0800
TZNAME:PST
DTSTART:20221106T090000
END:STANDARD
BEGIN:DAYLIGHT
TZOFFSETFROM:-0800
TZOFFSETTO:-0700
TZNAME:PDT
DTSTART:20230312T100000
END:DAYLIGHT
BEGIN:STANDARD
TZOFFSETFROM:-0700
TZOFFSETTO:-0800
TZNAME:PST
DTSTART:20231105T090000
END:STANDARD
BEGIN:DAYLIGHT
TZOFFSETFROM:-0800
TZOFFSETTO:-0700
TZNAME:PDT
DTSTART:20240310T100000
END:DAYLIGHT
BEGIN:STANDARD
TZOFFSETFROM:-0700
TZOFFSETTO:-0800
TZNAME:PST
DTSTART:20241103T090000
END:STANDARD
END:VTIMEZONE
BEGIN:VTIMEZONE
TZID:America/Los_Angeles
BEGIN:DAYLIGHT
TZOFFSETFROM:-0800
TZOFFSETTO:-0700
TZNAME:PDT
DTSTART:20220313T100000
END:DAYLIGHT
BEGIN:STANDARD
TZOFFSETFROM:-0700
TZOFFSETTO:-0800
TZNAME:PST
DTSTART:20221106T090000
END:STANDARD
BEGIN:DAYLIGHT
TZOFFSETFROM:-0800
TZOFFSETTO:-0700
TZNAME:PDT
DTSTART:20230312T100000
END:DAYLIGHT
BEGIN:STANDARD
TZOFFSETFROM:-0700
TZOFFSETTO:-0800
TZNAME:PST
DTSTART:20231105T090000
END:STANDARD
BEGIN:DAYLIGHT
TZOFFSETFROM:-0800
TZOFFSETTO:-0700
TZNAME:PDT
DTSTART:20240310T100000
END:DAYLIGHT
BEGIN:STANDARD
TZOFFSETFROM:-0700
TZOFFSETTO:-0800
TZNAME:PST
DTSTART:20241103T090000
END:STANDARD
END:VTIMEZONE
BEGIN:VEVENT
DTSTART;VALUE=DATE:20230903
DTEND;VALUE=DATE:20230904
DTSTAMP:20260420T174432
CREATED:20230902T143713Z
LAST-MODIFIED:20240719T144948Z
UID:3614-1693699200-1693785599@wrightwoodevents.com
SUMMARY:THE Sport SIM
DESCRIPTION:The Sport Sim of Wrightwood! \nWe are excited to introduce Wrightwood’s first Golf Simulator and Inline Hockey Shooting Bay. \nPlay your favorite course or tee off on the driving range. \nIf you want to try your skills at inline hockey\, the interactive games will test your abilities and maybe you have what it takes to become a PLAYER! \nOPEN Monday to Thursday 3pm to 7pm \nOPEN Friday 3pm to 9pm \nOPEN Saturdays 11am to 9pm \nOPEN Sundays 11am to 8pm
URL:https://wrightwoodevents.com/event/the-sport-sim-2/
LOCATION:THE Sport SIM\, 1350 State Highway 2\, Wrightwood\, CA\, 92397\, United States
CATEGORIES:Music,Resident Filter,Visitor Filter
ATTACH;FMTTYPE=image/jpeg:https://wrightwoodevents.com/wp-content/uploads/2023/07/The-Sport-Sim.jpg
ORGANIZER;CN="Team RDP Wrightwood Real Estate":MAILTO:eddielimbaga@gmail.com
END:VEVENT
BEGIN:VEVENT
DTSTART;TZID=America/Los_Angeles:20231015T180000
DTEND;TZID=America/Los_Angeles:20231016T030000
DTSTAMP:20260420T174432
CREATED:20231005T175014Z
LAST-MODIFIED:20231005T175805Z
UID:3699-1697392800-1697425200@wrightwoodevents.com
SUMMARY:Oktoberfest North Lodge
DESCRIPTION:Join us for Oktoberfest 2023 at our historic North Lodge. This event attracts thousands of visitors each year making it one of the largest festivals in Wrightwood. Admission is FREE and activities take place from 11am to 5pm. \nBesides beer\, beer\, beer\, Oktoberfest is filled with games and entertainment for all ages. Dress up for your chance to win 23/24 Lift Tickets ($139 Value) or enjoy traditional-esque German music (and a few dancing guests.) \nOktoberfest at Mountain High is more than just bending elbows. It’s a family-friendly affair with vendors\, food\, and prizes for all participants.
URL:https://wrightwoodevents.com/event/oktoberfest-north-lodge-3/
LOCATION:North Lodge\, 24472 Forest Service Road\, Llano\, 93544\, United States
CATEGORIES:Food,Music
ATTACH;FMTTYPE=image/jpeg:https://wrightwoodevents.com/wp-content/uploads/2023/10/Oktoberfest.jpg
END:VEVENT
BEGIN:VEVENT
DTSTART;TZID=America/Los_Angeles:20230627T090000
DTEND;TZID=America/Los_Angeles:20230627T110000
DTSTAMP:20260420T174432
CREATED:20230621T010742Z
LAST-MODIFIED:20230621T010742Z
UID:3452-1687856400-1687863600@wrightwoodevents.com
SUMMARY:Line Dancing
DESCRIPTION:Line Dancing at the CSD. \nTell your friends!
URL:https://wrightwoodevents.com/event/line-dancing/
LOCATION:Wrightwood Community Center\, 1275 Angeles Crest Hwy\, Wrightwood\, CA\, 92397\, United States
ORGANIZER;CN="Wrightwood CSD":MAILTO:office@wrightwoodcsd.org
END:VEVENT
BEGIN:VEVENT
DTSTART;TZID=America/Los_Angeles:20230901T150000
DTEND;TZID=America/Los_Angeles:20230901T180000
DTSTAMP:20260420T174432
CREATED:20230901T225436Z
LAST-MODIFIED:20240105T200929Z
UID:3590-1693580400-1693591200@wrightwoodevents.com
SUMMARY:Wrightwood Farmers Market
DESCRIPTION:Farmers Market providing the Tri-Community with local produce\, baked goods\, honey\, olive oil\, bread\, and more. \nFridays 3-6pm pending weather conditions. \n \n 
URL:https://wrightwoodevents.com/event/wrightwood-farmers-market/
LOCATION:Community Building\, 1275 Hwy 2\, Wrightwood\, CA\, 92397\, United States
ATTACH;FMTTYPE=image/jpeg:https://wrightwoodevents.com/wp-content/uploads/2023/03/Farmers-Market.jpg
END:VEVENT
BEGIN:VEVENT
DTSTART;VALUE=DATE:20230902
DTEND;VALUE=DATE:20230903
DTSTAMP:20260420T174432
CREATED:20230902T143632Z
LAST-MODIFIED:20240301T160033Z
UID:3611-1693612800-1693699199@wrightwoodevents.com
SUMMARY:THE Sport SIM
DESCRIPTION:The Sport Sim of Wrightwood! \nWe are excited to introduce Wrightwood’s first Golf Simulator and Inline Hockey Shooting Bay. \nPlay your favorite course or tee off on the driving range. \nIf you want to try your skills at inline hockey\, the interactive games will test your abilities and maybe you have what it takes to become a PLAYER! \nOPEN Wednesdays 4:30pm to 9pm \nOPEN Saturdays 11am to 9pm \nOPEN Sundays 11am to 8pm
URL:https://wrightwoodevents.com/event/the-sport-sim/
LOCATION:THE Sport SIM\, 1350 State Highway 2\, Wrightwood\, CA\, 92397\, United States
CATEGORIES:Music,Resident Filter,Visitor Filter
ATTACH;FMTTYPE=image/jpeg:https://wrightwoodevents.com/wp-content/uploads/2023/07/The-Sport-Sim.jpg
ORGANIZER;CN="Team RDP Wrightwood Real Estate":MAILTO:eddielimbaga@gmail.com
END:VEVENT
BEGIN:VEVENT
DTSTART;TZID=America/Los_Angeles:20230902T100000
DTEND;TZID=America/Los_Angeles:20230902T160000
DTSTAMP:20260420T174432
CREATED:20230901T230054Z
LAST-MODIFIED:20230901T231351Z
UID:3593-1693648800-1693670400@wrightwoodevents.com
SUMMARY:Wrightwood History Museum
DESCRIPTION:Wrightwood History Museum\nOpen Hours Saturday 10AM – 4PM \n \n 
URL:https://wrightwoodevents.com/event/wrightwood-history-museum/
LOCATION:Old Firehouse\, 6000 Cedar St\, Wrightwood\, CA\, 92397\, United States
ATTACH;FMTTYPE=image/png:https://wrightwoodevents.com/wp-content/uploads/2023/04/Historical-Society.png
END:VEVENT
BEGIN:VEVENT
DTSTART;TZID=America/Los_Angeles:20231021T100000
DTEND;TZID=America/Los_Angeles:20231021T190000
DTSTAMP:20260420T174432
CREATED:20231005T175154Z
LAST-MODIFIED:20231005T175458Z
UID:3703-1697882400-1697914800@wrightwoodevents.com
SUMMARY:Oktoberfest North Lodge
DESCRIPTION:Join us for Oktoberfest 2023 at our historic North Lodge. This event attracts thousands of visitors each year making it one of the largest festivals in Wrightwood. Admission is FREE and activities take place from 11am to 5pm. \nBesides beer\, beer\, beer\, Oktoberfest is filled with games and entertainment for all ages. Dress up for your chance to win 23/24 Lift Tickets ($139 Value) or enjoy traditional-esque German music (and a few dancing guests.) \nOktoberfest at Mountain High is more than just bending elbows. It’s a family-friendly affair with vendors\, food\, and prizes for all participants.
URL:https://wrightwoodevents.com/event/oktoberfest-north-lodge-5/
LOCATION:North Lodge\, 24472 Forest Service Road\, Llano\, 93544\, United States
CATEGORIES:Food,Music
ATTACH;FMTTYPE=image/jpeg:https://wrightwoodevents.com/wp-content/uploads/2023/10/Oktoberfest.jpg
END:VEVENT
BEGIN:VEVENT
DTSTART;VALUE=DATE:20230903
DTEND;VALUE=DATE:20230904
DTSTAMP:20260420T174432
CREATED:20230902T143713Z
LAST-MODIFIED:20240719T144948Z
UID:3614-1693699200-1693785599@wrightwoodevents.com
SUMMARY:THE Sport SIM
DESCRIPTION:The Sport Sim of Wrightwood! \nWe are excited to introduce Wrightwood’s first Golf Simulator and Inline Hockey Shooting Bay. \nPlay your favorite course or tee off on the driving range. \nIf you want to try your skills at inline hockey\, the interactive games will test your abilities and maybe you have what it takes to become a PLAYER! \nOPEN Monday to Thursday 3pm to 7pm \nOPEN Friday 3pm to 9pm \nOPEN Saturdays 11am to 9pm \nOPEN Sundays 11am to 8pm
URL:https://wrightwoodevents.com/event/the-sport-sim-2/
LOCATION:THE Sport SIM\, 1350 State Highway 2\, Wrightwood\, CA\, 92397\, United States
CATEGORIES:Music,Resident Filter,Visitor Filter
ATTACH;FMTTYPE=image/jpeg:https://wrightwoodevents.com/wp-content/uploads/2023/07/The-Sport-Sim.jpg
ORGANIZER;CN="Team RDP Wrightwood Real Estate":MAILTO:eddielimbaga@gmail.com
END:VEVENT
BEGIN:VEVENT
DTSTART;TZID=America/Los_Angeles:20231022T100000
DTEND;TZID=America/Los_Angeles:20231022T190000
DTSTAMP:20260420T174432
CREATED:20231005T175233Z
LAST-MODIFIED:20231005T175233Z
UID:3705-1697968800-1698001200@wrightwoodevents.com
SUMMARY:Oktoberfest North Lodge
DESCRIPTION:Join us for Oktoberfest 2023 at our historic North Lodge. This event attracts thousands of visitors each year making it one of the largest festivals in Wrightwood. Admission is FREE and activities take place from 11am to 5pm. \nBesides beer\, beer\, beer\, Oktoberfest is filled with games and entertainment for all ages. Dress up for your chance to win 23/24 Lift Tickets ($139 Value) or enjoy traditional-esque German music (and a few dancing guests.) \nOktoberfest at Mountain High is more than just bending elbows. It’s a family-friendly affair with vendors\, food\, and prizes for all participants.
URL:https://wrightwoodevents.com/event/oktoberfest-north-lodge-6/
LOCATION:North Lodge\, 24472 Forest Service Road\, Llano\, 93544\, United States
CATEGORIES:Food,Music
ATTACH;FMTTYPE=image/jpeg:https://wrightwoodevents.com/wp-content/uploads/2023/10/Oktoberfest.jpg
END:VEVENT
BEGIN:VEVENT
DTSTART;TZID=America/Los_Angeles:20230627T090000
DTEND;TZID=America/Los_Angeles:20230627T110000
DTSTAMP:20260420T174432
CREATED:20230621T010742Z
LAST-MODIFIED:20230621T010742Z
UID:3452-1687856400-1687863600@wrightwoodevents.com
SUMMARY:Line Dancing
DESCRIPTION:Line Dancing at the CSD. \nTell your friends!
URL:https://wrightwoodevents.com/event/line-dancing/
LOCATION:Wrightwood Community Center\, 1275 Angeles Crest Hwy\, Wrightwood\, CA\, 92397\, United States
ORGANIZER;CN="Wrightwood CSD":MAILTO:office@wrightwoodcsd.org
END:VEVENT
BEGIN:VEVENT
DTSTART;TZID=America/Los_Angeles:20230901T150000
DTEND;TZID=America/Los_Angeles:20230901T180000
DTSTAMP:20260420T174432
CREATED:20230901T225436Z
LAST-MODIFIED:20240105T200929Z
UID:3590-1693580400-1693591200@wrightwoodevents.com
SUMMARY:Wrightwood Farmers Market
DESCRIPTION:Farmers Market providing the Tri-Community with local produce\, baked goods\, honey\, olive oil\, bread\, and more. \nFridays 3-6pm pending weather conditions. \n \n 
URL:https://wrightwoodevents.com/event/wrightwood-farmers-market/
LOCATION:Community Building\, 1275 Hwy 2\, Wrightwood\, CA\, 92397\, United States
ATTACH;FMTTYPE=image/jpeg:https://wrightwoodevents.com/wp-content/uploads/2023/03/Farmers-Market.jpg
END:VEVENT
BEGIN:VEVENT
DTSTART;VALUE=DATE:20230902
DTEND;VALUE=DATE:20230903
DTSTAMP:20260420T174432
CREATED:20230902T143632Z
LAST-MODIFIED:20240301T160033Z
UID:3611-1693612800-1693699199@wrightwoodevents.com
SUMMARY:THE Sport SIM
DESCRIPTION:The Sport Sim of Wrightwood! \nWe are excited to introduce Wrightwood’s first Golf Simulator and Inline Hockey Shooting Bay. \nPlay your favorite course or tee off on the driving range. \nIf you want to try your skills at inline hockey\, the interactive games will test your abilities and maybe you have what it takes to become a PLAYER! \nOPEN Wednesdays 4:30pm to 9pm \nOPEN Saturdays 11am to 9pm \nOPEN Sundays 11am to 8pm
URL:https://wrightwoodevents.com/event/the-sport-sim/
LOCATION:THE Sport SIM\, 1350 State Highway 2\, Wrightwood\, CA\, 92397\, United States
CATEGORIES:Music,Resident Filter,Visitor Filter
ATTACH;FMTTYPE=image/jpeg:https://wrightwoodevents.com/wp-content/uploads/2023/07/The-Sport-Sim.jpg
ORGANIZER;CN="Team RDP Wrightwood Real Estate":MAILTO:eddielimbaga@gmail.com
END:VEVENT
BEGIN:VEVENT
DTSTART;TZID=America/Los_Angeles:20230902T100000
DTEND;TZID=America/Los_Angeles:20230902T160000
DTSTAMP:20260420T174432
CREATED:20230901T230054Z
LAST-MODIFIED:20230901T231351Z
UID:3593-1693648800-1693670400@wrightwoodevents.com
SUMMARY:Wrightwood History Museum
DESCRIPTION:Wrightwood History Museum\nOpen Hours Saturday 10AM – 4PM \n \n 
URL:https://wrightwoodevents.com/event/wrightwood-history-museum/
LOCATION:Old Firehouse\, 6000 Cedar St\, Wrightwood\, CA\, 92397\, United States
ATTACH;FMTTYPE=image/png:https://wrightwoodevents.com/wp-content/uploads/2023/04/Historical-Society.png
END:VEVENT
BEGIN:VEVENT
DTSTART;VALUE=DATE:20230903
DTEND;VALUE=DATE:20230904
DTSTAMP:20260420T174432
CREATED:20230902T143713Z
LAST-MODIFIED:20240719T144948Z
UID:3614-1693699200-1693785599@wrightwoodevents.com
SUMMARY:THE Sport SIM
DESCRIPTION:The Sport Sim of Wrightwood! \nWe are excited to introduce Wrightwood’s first Golf Simulator and Inline Hockey Shooting Bay. \nPlay your favorite course or tee off on the driving range. \nIf you want to try your skills at inline hockey\, the interactive games will test your abilities and maybe you have what it takes to become a PLAYER! \nOPEN Monday to Thursday 3pm to 7pm \nOPEN Friday 3pm to 9pm \nOPEN Saturdays 11am to 9pm \nOPEN Sundays 11am to 8pm
URL:https://wrightwoodevents.com/event/the-sport-sim-2/
LOCATION:THE Sport SIM\, 1350 State Highway 2\, Wrightwood\, CA\, 92397\, United States
CATEGORIES:Music,Resident Filter,Visitor Filter
ATTACH;FMTTYPE=image/jpeg:https://wrightwoodevents.com/wp-content/uploads/2023/07/The-Sport-Sim.jpg
ORGANIZER;CN="Team RDP Wrightwood Real Estate":MAILTO:eddielimbaga@gmail.com
END:VEVENT
BEGIN:VEVENT
DTSTART;TZID=America/Los_Angeles:20230627T090000
DTEND;TZID=America/Los_Angeles:20230627T110000
DTSTAMP:20260420T174432
CREATED:20230621T010742Z
LAST-MODIFIED:20230621T010742Z
UID:3452-1687856400-1687863600@wrightwoodevents.com
SUMMARY:Line Dancing
DESCRIPTION:Line Dancing at the CSD. \nTell your friends!
URL:https://wrightwoodevents.com/event/line-dancing/
LOCATION:Wrightwood Community Center\, 1275 Angeles Crest Hwy\, Wrightwood\, CA\, 92397\, United States
ORGANIZER;CN="Wrightwood CSD":MAILTO:office@wrightwoodcsd.org
END:VEVENT
BEGIN:VEVENT
DTSTART;TZID=America/Los_Angeles:20230901T150000
DTEND;TZID=America/Los_Angeles:20230901T180000
DTSTAMP:20260420T174432
CREATED:20230901T225436Z
LAST-MODIFIED:20240105T200929Z
UID:3590-1693580400-1693591200@wrightwoodevents.com
SUMMARY:Wrightwood Farmers Market
DESCRIPTION:Farmers Market providing the Tri-Community with local produce\, baked goods\, honey\, olive oil\, bread\, and more. \nFridays 3-6pm pending weather conditions. \n \n 
URL:https://wrightwoodevents.com/event/wrightwood-farmers-market/
LOCATION:Community Building\, 1275 Hwy 2\, Wrightwood\, CA\, 92397\, United States
ATTACH;FMTTYPE=image/jpeg:https://wrightwoodevents.com/wp-content/uploads/2023/03/Farmers-Market.jpg
END:VEVENT
BEGIN:VEVENT
DTSTART;VALUE=DATE:20230902
DTEND;VALUE=DATE:20230903
DTSTAMP:20260420T174432
CREATED:20230902T143632Z
LAST-MODIFIED:20240301T160033Z
UID:3611-1693612800-1693699199@wrightwoodevents.com
SUMMARY:THE Sport SIM
DESCRIPTION:The Sport Sim of Wrightwood! \nWe are excited to introduce Wrightwood’s first Golf Simulator and Inline Hockey Shooting Bay. \nPlay your favorite course or tee off on the driving range. \nIf you want to try your skills at inline hockey\, the interactive games will test your abilities and maybe you have what it takes to become a PLAYER! \nOPEN Wednesdays 4:30pm to 9pm \nOPEN Saturdays 11am to 9pm \nOPEN Sundays 11am to 8pm
URL:https://wrightwoodevents.com/event/the-sport-sim/
LOCATION:THE Sport SIM\, 1350 State Highway 2\, Wrightwood\, CA\, 92397\, United States
CATEGORIES:Music,Resident Filter,Visitor Filter
ATTACH;FMTTYPE=image/jpeg:https://wrightwoodevents.com/wp-content/uploads/2023/07/The-Sport-Sim.jpg
ORGANIZER;CN="Team RDP Wrightwood Real Estate":MAILTO:eddielimbaga@gmail.com
END:VEVENT
BEGIN:VEVENT
DTSTART;TZID=America/Los_Angeles:20231104T090000
DTEND;TZID=America/Los_Angeles:20231104T120000
DTSTAMP:20260420T174432
CREATED:20231103T153106Z
LAST-MODIFIED:20231103T153106Z
UID:3737-1699088400-1699099200@wrightwoodevents.com
SUMMARY:Village Trail Daffodil Planting
DESCRIPTION:
URL:https://wrightwoodevents.com/event/village-trail-daffodil-planting/
LOCATION:Mountain Hardware\, 1390 State Highway 2\, Wrightwood\, CA\, 92397\, United States
ATTACH;FMTTYPE=image/jpeg:https://wrightwoodevents.com/wp-content/uploads/2023/11/daffodil.jpg
END:VEVENT
BEGIN:VEVENT
DTSTART;TZID=America/Los_Angeles:20230902T100000
DTEND;TZID=America/Los_Angeles:20230902T160000
DTSTAMP:20260420T174432
CREATED:20230901T230054Z
LAST-MODIFIED:20230901T231351Z
UID:3593-1693648800-1693670400@wrightwoodevents.com
SUMMARY:Wrightwood History Museum
DESCRIPTION:Wrightwood History Museum\nOpen Hours Saturday 10AM – 4PM \n \n 
URL:https://wrightwoodevents.com/event/wrightwood-history-museum/
LOCATION:Old Firehouse\, 6000 Cedar St\, Wrightwood\, CA\, 92397\, United States
ATTACH;FMTTYPE=image/png:https://wrightwoodevents.com/wp-content/uploads/2023/04/Historical-Society.png
END:VEVENT
BEGIN:VEVENT
DTSTART;TZID=America/Los_Angeles:20231104T140000
DTEND;TZID=America/Los_Angeles:20231104T170000
DTSTAMP:20260420T174432
CREATED:20230927T155015Z
LAST-MODIFIED:20230927T155024Z
UID:3679-1699106400-1699117200@wrightwoodevents.com
SUMMARY:Opening of Community Art Center & Gallery
DESCRIPTION:Drawing Together and Wrightwood Arts Center have teamed up to create a new space that will feature a gallery\, classes\, and art supplies.
URL:https://wrightwoodevents.com/event/opening-of-community-art-center-gallery/
LOCATION:Community Art Center & Gallery\, 6045 Park Dr\, Wrightwood\, 92397\, United States
ATTACH;FMTTYPE=image/jpeg:https://wrightwoodevents.com/wp-content/uploads/2023/09/Art-Center-Gallery.jpg
END:VEVENT
BEGIN:VEVENT
DTSTART;VALUE=DATE:20230903
DTEND;VALUE=DATE:20230904
DTSTAMP:20260420T174432
CREATED:20230902T143713Z
LAST-MODIFIED:20240719T144948Z
UID:3614-1693699200-1693785599@wrightwoodevents.com
SUMMARY:THE Sport SIM
DESCRIPTION:The Sport Sim of Wrightwood! \nWe are excited to introduce Wrightwood’s first Golf Simulator and Inline Hockey Shooting Bay. \nPlay your favorite course or tee off on the driving range. \nIf you want to try your skills at inline hockey\, the interactive games will test your abilities and maybe you have what it takes to become a PLAYER! \nOPEN Monday to Thursday 3pm to 7pm \nOPEN Friday 3pm to 9pm \nOPEN Saturdays 11am to 9pm \nOPEN Sundays 11am to 8pm
URL:https://wrightwoodevents.com/event/the-sport-sim-2/
LOCATION:THE Sport SIM\, 1350 State Highway 2\, Wrightwood\, CA\, 92397\, United States
CATEGORIES:Music,Resident Filter,Visitor Filter
ATTACH;FMTTYPE=image/jpeg:https://wrightwoodevents.com/wp-content/uploads/2023/07/The-Sport-Sim.jpg
ORGANIZER;CN="Team RDP Wrightwood Real Estate":MAILTO:eddielimbaga@gmail.com
END:VEVENT
BEGIN:VEVENT
DTSTART;TZID=America/Los_Angeles:20230627T090000
DTEND;TZID=America/Los_Angeles:20230627T110000
DTSTAMP:20260420T174432
CREATED:20230621T010742Z
LAST-MODIFIED:20230621T010742Z
UID:3452-1687856400-1687863600@wrightwoodevents.com
SUMMARY:Line Dancing
DESCRIPTION:Line Dancing at the CSD. \nTell your friends!
URL:https://wrightwoodevents.com/event/line-dancing/
LOCATION:Wrightwood Community Center\, 1275 Angeles Crest Hwy\, Wrightwood\, CA\, 92397\, United States
ORGANIZER;CN="Wrightwood CSD":MAILTO:office@wrightwoodcsd.org
END:VEVENT
BEGIN:VEVENT
DTSTART;TZID=America/Los_Angeles:20231107T173000
DTEND;TZID=America/Los_Angeles:20231107T193000
DTSTAMP:20260420T174432
CREATED:20230901T231900Z
LAST-MODIFIED:20230901T231900Z
UID:3599-1699378200-1699385400@wrightwoodevents.com
SUMMARY:WCSD Board Meeting
DESCRIPTION:Wrightwood Community Services District Board Meeting 5:30PM \n\nHome
URL:https://wrightwoodevents.com/event/wcsd-board-meeting-4/
LOCATION:Community Building\, 1275 Hwy 2\, Wrightwood\, CA\, 92397\, United States
CATEGORIES:Resident Filter
ATTACH;FMTTYPE=image/png:https://wrightwoodevents.com/wp-content/uploads/2023/03/wrightwood-seal.png
END:VEVENT
BEGIN:VEVENT
DTSTART;TZID=America/Los_Angeles:20230901T150000
DTEND;TZID=America/Los_Angeles:20230901T180000
DTSTAMP:20260420T174432
CREATED:20230901T225436Z
LAST-MODIFIED:20240105T200929Z
UID:3590-1693580400-1693591200@wrightwoodevents.com
SUMMARY:Wrightwood Farmers Market
DESCRIPTION:Farmers Market providing the Tri-Community with local produce\, baked goods\, honey\, olive oil\, bread\, and more. \nFridays 3-6pm pending weather conditions. \n \n 
URL:https://wrightwoodevents.com/event/wrightwood-farmers-market/
LOCATION:Community Building\, 1275 Hwy 2\, Wrightwood\, CA\, 92397\, United States
ATTACH;FMTTYPE=image/jpeg:https://wrightwoodevents.com/wp-content/uploads/2023/03/Farmers-Market.jpg
END:VEVENT
BEGIN:VEVENT
DTSTART;VALUE=DATE:20230902
DTEND;VALUE=DATE:20230903
DTSTAMP:20260420T174432
CREATED:20230902T143632Z
LAST-MODIFIED:20240301T160033Z
UID:3611-1693612800-1693699199@wrightwoodevents.com
SUMMARY:THE Sport SIM
DESCRIPTION:The Sport Sim of Wrightwood! \nWe are excited to introduce Wrightwood’s first Golf Simulator and Inline Hockey Shooting Bay. \nPlay your favorite course or tee off on the driving range. \nIf you want to try your skills at inline hockey\, the interactive games will test your abilities and maybe you have what it takes to become a PLAYER! \nOPEN Wednesdays 4:30pm to 9pm \nOPEN Saturdays 11am to 9pm \nOPEN Sundays 11am to 8pm
URL:https://wrightwoodevents.com/event/the-sport-sim/
LOCATION:THE Sport SIM\, 1350 State Highway 2\, Wrightwood\, CA\, 92397\, United States
CATEGORIES:Music,Resident Filter,Visitor Filter
ATTACH;FMTTYPE=image/jpeg:https://wrightwoodevents.com/wp-content/uploads/2023/07/The-Sport-Sim.jpg
ORGANIZER;CN="Team RDP Wrightwood Real Estate":MAILTO:eddielimbaga@gmail.com
END:VEVENT
BEGIN:VEVENT
DTSTART;TZID=America/Los_Angeles:20230902T100000
DTEND;TZID=America/Los_Angeles:20230902T160000
DTSTAMP:20260420T174432
CREATED:20230901T230054Z
LAST-MODIFIED:20230901T231351Z
UID:3593-1693648800-1693670400@wrightwoodevents.com
SUMMARY:Wrightwood History Museum
DESCRIPTION:Wrightwood History Museum\nOpen Hours Saturday 10AM – 4PM \n \n 
URL:https://wrightwoodevents.com/event/wrightwood-history-museum/
LOCATION:Old Firehouse\, 6000 Cedar St\, Wrightwood\, CA\, 92397\, United States
ATTACH;FMTTYPE=image/png:https://wrightwoodevents.com/wp-content/uploads/2023/04/Historical-Society.png
END:VEVENT
BEGIN:VEVENT
DTSTART;VALUE=DATE:20230903
DTEND;VALUE=DATE:20230904
DTSTAMP:20260420T174432
CREATED:20230902T143713Z
LAST-MODIFIED:20240719T144948Z
UID:3614-1693699200-1693785599@wrightwoodevents.com
SUMMARY:THE Sport SIM
DESCRIPTION:The Sport Sim of Wrightwood! \nWe are excited to introduce Wrightwood’s first Golf Simulator and Inline Hockey Shooting Bay. \nPlay your favorite course or tee off on the driving range. \nIf you want to try your skills at inline hockey\, the interactive games will test your abilities and maybe you have what it takes to become a PLAYER! \nOPEN Monday to Thursday 3pm to 7pm \nOPEN Friday 3pm to 9pm \nOPEN Saturdays 11am to 9pm \nOPEN Sundays 11am to 8pm
URL:https://wrightwoodevents.com/event/the-sport-sim-2/
LOCATION:THE Sport SIM\, 1350 State Highway 2\, Wrightwood\, CA\, 92397\, United States
CATEGORIES:Music,Resident Filter,Visitor Filter
ATTACH;FMTTYPE=image/jpeg:https://wrightwoodevents.com/wp-content/uploads/2023/07/The-Sport-Sim.jpg
ORGANIZER;CN="Team RDP Wrightwood Real Estate":MAILTO:eddielimbaga@gmail.com
END:VEVENT
BEGIN:VEVENT
DTSTART;TZID=America/Los_Angeles:20230627T090000
DTEND;TZID=America/Los_Angeles:20230627T110000
DTSTAMP:20260420T174432
CREATED:20230621T010742Z
LAST-MODIFIED:20230621T010742Z
UID:3452-1687856400-1687863600@wrightwoodevents.com
SUMMARY:Line Dancing
DESCRIPTION:Line Dancing at the CSD. \nTell your friends!
URL:https://wrightwoodevents.com/event/line-dancing/
LOCATION:Wrightwood Community Center\, 1275 Angeles Crest Hwy\, Wrightwood\, CA\, 92397\, United States
ORGANIZER;CN="Wrightwood CSD":MAILTO:office@wrightwoodcsd.org
END:VEVENT
BEGIN:VEVENT
DTSTART;TZID=America/Los_Angeles:20231114T183000
DTEND;TZID=America/Los_Angeles:20231114T203000
DTSTAMP:20260420T174432
CREATED:20230901T232459Z
LAST-MODIFIED:20230901T232459Z
UID:3607-1699986600-1699993800@wrightwoodevents.com
SUMMARY:Pine Needles Quilt Guild
DESCRIPTION:Organizer\n\nPine Needles Quilt Guild\nPhone:\n760-408-3545\nEmail:\nlynnjcrawford@gmail.com
URL:https://wrightwoodevents.com/event/pine-needles-quilt-guild-6/
LOCATION:CSD Building\, 1275 Hwy 2\, Wrightwood\, CA\, 92397\, United States
CATEGORIES:Resident Filter,Visitor Filter
ATTACH;FMTTYPE=image/webp:https://wrightwoodevents.com/wp-content/uploads/2023/03/Quilting.webp
END:VEVENT
BEGIN:VEVENT
DTSTART;TZID=America/Los_Angeles:20230901T150000
DTEND;TZID=America/Los_Angeles:20230901T180000
DTSTAMP:20260420T174432
CREATED:20230901T225436Z
LAST-MODIFIED:20240105T200929Z
UID:3590-1693580400-1693591200@wrightwoodevents.com
SUMMARY:Wrightwood Farmers Market
DESCRIPTION:Farmers Market providing the Tri-Community with local produce\, baked goods\, honey\, olive oil\, bread\, and more. \nFridays 3-6pm pending weather conditions. \n \n 
URL:https://wrightwoodevents.com/event/wrightwood-farmers-market/
LOCATION:Community Building\, 1275 Hwy 2\, Wrightwood\, CA\, 92397\, United States
ATTACH;FMTTYPE=image/jpeg:https://wrightwoodevents.com/wp-content/uploads/2023/03/Farmers-Market.jpg
END:VEVENT
END:VCALENDAR