BEGIN:VCALENDAR
VERSION:2.0
PRODID:-//Wrightwood Events - ECPv6.15.20//NONSGML v1.0//EN
CALSCALE:GREGORIAN
METHOD:PUBLISH
X-ORIGINAL-URL:https://wrightwoodevents.com
X-WR-CALDESC:Events for Wrightwood Events
REFRESH-INTERVAL;VALUE=DURATION:PT1H
X-Robots-Tag:noindex
X-PUBLISHED-TTL:PT1H
BEGIN:VTIMEZONE
TZID:America/Los_Angeles
BEGIN:DAYLIGHT
TZOFFSETFROM:-0800
TZOFFSETTO:-0700
TZNAME:PDT
DTSTART:20220313T100000
END:DAYLIGHT
BEGIN:STANDARD
TZOFFSETFROM:-0700
TZOFFSETTO:-0800
TZNAME:PST
DTSTART:20221106T090000
END:STANDARD
BEGIN:DAYLIGHT
TZOFFSETFROM:-0800
TZOFFSETTO:-0700
TZNAME:PDT
DTSTART:20230312T100000
END:DAYLIGHT
BEGIN:STANDARD
TZOFFSETFROM:-0700
TZOFFSETTO:-0800
TZNAME:PST
DTSTART:20231105T090000
END:STANDARD
BEGIN:DAYLIGHT
TZOFFSETFROM:-0800
TZOFFSETTO:-0700
TZNAME:PDT
DTSTART:20240310T100000
END:DAYLIGHT
BEGIN:STANDARD
TZOFFSETFROM:-0700
TZOFFSETTO:-0800
TZNAME:PST
DTSTART:20241103T090000
END:STANDARD
END:VTIMEZONE
BEGIN:VTIMEZONE
TZID:America/Los_Angeles
BEGIN:DAYLIGHT
TZOFFSETFROM:-0800
TZOFFSETTO:-0700
TZNAME:PDT
DTSTART:20220313T100000
END:DAYLIGHT
BEGIN:STANDARD
TZOFFSETFROM:-0700
TZOFFSETTO:-0800
TZNAME:PST
DTSTART:20221106T090000
END:STANDARD
BEGIN:DAYLIGHT
TZOFFSETFROM:-0800
TZOFFSETTO:-0700
TZNAME:PDT
DTSTART:20230312T100000
END:DAYLIGHT
BEGIN:STANDARD
TZOFFSETFROM:-0700
TZOFFSETTO:-0800
TZNAME:PST
DTSTART:20231105T090000
END:STANDARD
BEGIN:DAYLIGHT
TZOFFSETFROM:-0800
TZOFFSETTO:-0700
TZNAME:PDT
DTSTART:20240310T100000
END:DAYLIGHT
BEGIN:STANDARD
TZOFFSETFROM:-0700
TZOFFSETTO:-0800
TZNAME:PST
DTSTART:20241103T090000
END:STANDARD
END:VTIMEZONE
BEGIN:VEVENT
DTSTART;TZID=America/Los_Angeles:20230627T090000
DTEND;TZID=America/Los_Angeles:20230627T110000
DTSTAMP:20260420T111156
CREATED:20230621T010742Z
LAST-MODIFIED:20230621T010742Z
UID:3452-1687856400-1687863600@wrightwoodevents.com
SUMMARY:Line Dancing
DESCRIPTION:Line Dancing at the CSD. \nTell your friends!
URL:https://wrightwoodevents.com/event/line-dancing/
LOCATION:Wrightwood Community Center\, 1275 Angeles Crest Hwy\, Wrightwood\, CA\, 92397\, United States
ORGANIZER;CN="Wrightwood CSD":MAILTO:office@wrightwoodcsd.org
END:VEVENT
BEGIN:VEVENT
DTSTART;TZID=America/Los_Angeles:20230905T173000
DTEND;TZID=America/Los_Angeles:20230905T193000
DTSTAMP:20260420T111156
CREATED:20230815T230241Z
LAST-MODIFIED:20230815T230241Z
UID:3573-1693935000-1693942200@wrightwoodevents.com
SUMMARY:WCSD Board Meeting
DESCRIPTION:Wrightwood Community Services District Board Meeting 5:30PM \n\nHome
URL:https://wrightwoodevents.com/event/wcsd-board-meeting/
LOCATION:Community Building\, 1275 Hwy 2\, Wrightwood\, CA\, 92397\, United States
CATEGORIES:Resident Filter
ATTACH;FMTTYPE=image/png:https://wrightwoodevents.com/wp-content/uploads/2023/03/wrightwood-seal.png
END:VEVENT
BEGIN:VEVENT
DTSTART;TZID=America/Los_Angeles:20230901T150000
DTEND;TZID=America/Los_Angeles:20230901T180000
DTSTAMP:20260420T111156
CREATED:20230901T225436Z
LAST-MODIFIED:20240105T200929Z
UID:3590-1693580400-1693591200@wrightwoodevents.com
SUMMARY:Wrightwood Farmers Market
DESCRIPTION:Farmers Market providing the Tri-Community with local produce\, baked goods\, honey\, olive oil\, bread\, and more. \nFridays 3-6pm pending weather conditions. \n \n 
URL:https://wrightwoodevents.com/event/wrightwood-farmers-market/
LOCATION:Community Building\, 1275 Hwy 2\, Wrightwood\, CA\, 92397\, United States
ATTACH;FMTTYPE=image/jpeg:https://wrightwoodevents.com/wp-content/uploads/2023/03/Farmers-Market.jpg
END:VEVENT
BEGIN:VEVENT
DTSTART;VALUE=DATE:20230902
DTEND;VALUE=DATE:20230903
DTSTAMP:20260420T111156
CREATED:20230902T143632Z
LAST-MODIFIED:20240301T160033Z
UID:3611-1693612800-1693699199@wrightwoodevents.com
SUMMARY:THE Sport SIM
DESCRIPTION:The Sport Sim of Wrightwood! \nWe are excited to introduce Wrightwood’s first Golf Simulator and Inline Hockey Shooting Bay. \nPlay your favorite course or tee off on the driving range. \nIf you want to try your skills at inline hockey\, the interactive games will test your abilities and maybe you have what it takes to become a PLAYER! \nOPEN Wednesdays 4:30pm to 9pm \nOPEN Saturdays 11am to 9pm \nOPEN Sundays 11am to 8pm
URL:https://wrightwoodevents.com/event/the-sport-sim/
LOCATION:THE Sport SIM\, 1350 State Highway 2\, Wrightwood\, CA\, 92397\, United States
CATEGORIES:Music,Resident Filter,Visitor Filter
ATTACH;FMTTYPE=image/jpeg:https://wrightwoodevents.com/wp-content/uploads/2023/07/The-Sport-Sim.jpg
ORGANIZER;CN="Team RDP Wrightwood Real Estate":MAILTO:eddielimbaga@gmail.com
END:VEVENT
BEGIN:VEVENT
DTSTART;TZID=America/Los_Angeles:20230909T080000
DTEND;TZID=America/Los_Angeles:20230909T160000
DTSTAMP:20260420T111156
CREATED:20230907T025804Z
LAST-MODIFIED:20230907T025804Z
UID:3658-1694246400-1694275200@wrightwoodevents.com
SUMMARY:CERT Monthly Basic Training 1/3
DESCRIPTION:Community Emergency Response Team (CERT) is offering a free 20-hour basic training disaster preparedness course. The course includes three Saturdays of training\, September 9th\, 16th\, and 23rd\, 2023\, from 8 am-4 pm at the Wrightwood Community Building. Participants must be 17 or older or be with a parent taking the course. The Basic CERT program consists of training focusing on first aid\, CPR\, and training for emergency preparedness for Wrightwood. Training is free. Attendees must attend ALL three sessions to be certified to be a member of the Wrightwood CERT. The training classes will be held at Wrightwood Community Building located at 1275 Hwy 2. To register or for further information\,
URL:https://wrightwoodevents.com/event/cert-monthly-basic-training-1-3/
LOCATION:Community Building\, 1275 Hwy 2\, Wrightwood\, CA\, 92397\, United States
CATEGORIES:Resident Filter
ATTACH;FMTTYPE=image/jpeg:https://wrightwoodevents.com/wp-content/uploads/2023/03/CERT-Logo.jpg
ORGANIZER;CN="Community Emergency Response Team":MAILTO:certwrightwood@gmail.com
END:VEVENT
BEGIN:VEVENT
DTSTART;TZID=America/Los_Angeles:20230902T100000
DTEND;TZID=America/Los_Angeles:20230902T160000
DTSTAMP:20260420T111156
CREATED:20230901T230054Z
LAST-MODIFIED:20230901T231351Z
UID:3593-1693648800-1693670400@wrightwoodevents.com
SUMMARY:Wrightwood History Museum
DESCRIPTION:Wrightwood History Museum\nOpen Hours Saturday 10AM – 4PM \n \n 
URL:https://wrightwoodevents.com/event/wrightwood-history-museum/
LOCATION:Old Firehouse\, 6000 Cedar St\, Wrightwood\, CA\, 92397\, United States
ATTACH;FMTTYPE=image/png:https://wrightwoodevents.com/wp-content/uploads/2023/04/Historical-Society.png
END:VEVENT
BEGIN:VEVENT
DTSTART;TZID=America/Los_Angeles:20230909T160000
DTEND;TZID=America/Los_Angeles:20230909T200000
DTSTAMP:20260420T111156
CREATED:20230721T201309Z
LAST-MODIFIED:20230721T201435Z
UID:3504-1694275200-1694289600@wrightwoodevents.com
SUMMARY:North Lodge Concert Series
DESCRIPTION:September 9 \nGreg Jones Band \nListen to great blues and R & B from the Greg Jones Band FREE from 4pm-8pm at the North Lodge.
URL:https://wrightwoodevents.com/event/north-lodge-concert-series-7/
LOCATION:North Lodge\, 24472 Forest Service Road\, Llano\, 93544\, United States
CATEGORIES:Music,Resident Filter,Visitor Filter
ATTACH;FMTTYPE=image/png:https://wrightwoodevents.com/wp-content/uploads/2023/07/9.9-Greg-Jones-North-Lodge.png
END:VEVENT
BEGIN:VEVENT
DTSTART;VALUE=DATE:20230903
DTEND;VALUE=DATE:20230904
DTSTAMP:20260420T111156
CREATED:20230902T143713Z
LAST-MODIFIED:20240719T144948Z
UID:3614-1693699200-1693785599@wrightwoodevents.com
SUMMARY:THE Sport SIM
DESCRIPTION:The Sport Sim of Wrightwood! \nWe are excited to introduce Wrightwood’s first Golf Simulator and Inline Hockey Shooting Bay. \nPlay your favorite course or tee off on the driving range. \nIf you want to try your skills at inline hockey\, the interactive games will test your abilities and maybe you have what it takes to become a PLAYER! \nOPEN Monday to Thursday 3pm to 7pm \nOPEN Friday 3pm to 9pm \nOPEN Saturdays 11am to 9pm \nOPEN Sundays 11am to 8pm
URL:https://wrightwoodevents.com/event/the-sport-sim-2/
LOCATION:THE Sport SIM\, 1350 State Highway 2\, Wrightwood\, CA\, 92397\, United States
CATEGORIES:Music,Resident Filter,Visitor Filter
ATTACH;FMTTYPE=image/jpeg:https://wrightwoodevents.com/wp-content/uploads/2023/07/The-Sport-Sim.jpg
ORGANIZER;CN="Team RDP Wrightwood Real Estate":MAILTO:eddielimbaga@gmail.com
END:VEVENT
BEGIN:VEVENT
DTSTART;TZID=America/Los_Angeles:20230627T090000
DTEND;TZID=America/Los_Angeles:20230627T110000
DTSTAMP:20260420T111156
CREATED:20230621T010742Z
LAST-MODIFIED:20230621T010742Z
UID:3452-1687856400-1687863600@wrightwoodevents.com
SUMMARY:Line Dancing
DESCRIPTION:Line Dancing at the CSD. \nTell your friends!
URL:https://wrightwoodevents.com/event/line-dancing/
LOCATION:Wrightwood Community Center\, 1275 Angeles Crest Hwy\, Wrightwood\, CA\, 92397\, United States
ORGANIZER;CN="Wrightwood CSD":MAILTO:office@wrightwoodcsd.org
END:VEVENT
BEGIN:VEVENT
DTSTART;TZID=America/Los_Angeles:20230912T183000
DTEND;TZID=America/Los_Angeles:20230912T203000
DTSTAMP:20260420T111156
CREATED:20230901T232333Z
LAST-MODIFIED:20230901T232356Z
UID:3603-1694543400-1694550600@wrightwoodevents.com
SUMMARY:Pine Needles Quilt Guild
DESCRIPTION:Organizer\n\nPine Needles Quilt Guild\nPhone:\n760-408-3545\nEmail:\nlynnjcrawford@gmail.com
URL:https://wrightwoodevents.com/event/pine-needles-quilt-guild/
LOCATION:CSD Building\, 1275 Hwy 2\, Wrightwood\, CA\, 92397\, United States
CATEGORIES:Resident Filter,Visitor Filter
ATTACH;FMTTYPE=image/webp:https://wrightwoodevents.com/wp-content/uploads/2023/03/Quilting.webp
END:VEVENT
BEGIN:VEVENT
DTSTART;TZID=America/Los_Angeles:20230901T150000
DTEND;TZID=America/Los_Angeles:20230901T180000
DTSTAMP:20260420T111156
CREATED:20230901T225436Z
LAST-MODIFIED:20240105T200929Z
UID:3590-1693580400-1693591200@wrightwoodevents.com
SUMMARY:Wrightwood Farmers Market
DESCRIPTION:Farmers Market providing the Tri-Community with local produce\, baked goods\, honey\, olive oil\, bread\, and more. \nFridays 3-6pm pending weather conditions. \n \n 
URL:https://wrightwoodevents.com/event/wrightwood-farmers-market/
LOCATION:Community Building\, 1275 Hwy 2\, Wrightwood\, CA\, 92397\, United States
ATTACH;FMTTYPE=image/jpeg:https://wrightwoodevents.com/wp-content/uploads/2023/03/Farmers-Market.jpg
END:VEVENT
BEGIN:VEVENT
DTSTART;TZID=America/Los_Angeles:20230915T180000
DTEND;TZID=America/Los_Angeles:20230915T200000
DTSTAMP:20260420T111156
CREATED:20230901T222257Z
LAST-MODIFIED:20230901T222257Z
UID:3586-1694800800-1694808000@wrightwoodevents.com
SUMMARY:Mountain Hardware 60th Customer Appreciation Party
DESCRIPTION:Join Mountain Hardware as they show their appreciation to YOU\, the Customer. \nSeptember 15th 2023 Friday Night 6pm-8pm. \nBring your chair and enjoy free hotdogs cooked by the fire explorers and soft drinks and water. \nEnjoy music played by Jarett Bramley! \nSee you there!
URL:https://wrightwoodevents.com/event/mountain-hardware-60th-customer-appreciation-party/
LOCATION:Mountain Hardware\, 1390 State Highway 2\, Wrightwood\, CA\, 92397\, United States
ATTACH;FMTTYPE=image/jpeg:https://wrightwoodevents.com/wp-content/uploads/2023/02/Mountain-Hardware.jpg
END:VEVENT
BEGIN:VEVENT
DTSTART;VALUE=DATE:20230902
DTEND;VALUE=DATE:20230903
DTSTAMP:20260420T111156
CREATED:20230902T143632Z
LAST-MODIFIED:20240301T160033Z
UID:3611-1693612800-1693699199@wrightwoodevents.com
SUMMARY:THE Sport SIM
DESCRIPTION:The Sport Sim of Wrightwood! \nWe are excited to introduce Wrightwood’s first Golf Simulator and Inline Hockey Shooting Bay. \nPlay your favorite course or tee off on the driving range. \nIf you want to try your skills at inline hockey\, the interactive games will test your abilities and maybe you have what it takes to become a PLAYER! \nOPEN Wednesdays 4:30pm to 9pm \nOPEN Saturdays 11am to 9pm \nOPEN Sundays 11am to 8pm
URL:https://wrightwoodevents.com/event/the-sport-sim/
LOCATION:THE Sport SIM\, 1350 State Highway 2\, Wrightwood\, CA\, 92397\, United States
CATEGORIES:Music,Resident Filter,Visitor Filter
ATTACH;FMTTYPE=image/jpeg:https://wrightwoodevents.com/wp-content/uploads/2023/07/The-Sport-Sim.jpg
ORGANIZER;CN="Team RDP Wrightwood Real Estate":MAILTO:eddielimbaga@gmail.com
END:VEVENT
BEGIN:VEVENT
DTSTART;TZID=America/Los_Angeles:20230916T080000
DTEND;TZID=America/Los_Angeles:20230916T160000
DTSTAMP:20260420T111156
CREATED:20230907T025842Z
LAST-MODIFIED:20230907T025842Z
UID:3660-1694851200-1694880000@wrightwoodevents.com
SUMMARY:CERT Monthly Basic Training 2/3
DESCRIPTION:Community Emergency Response Team (CERT) is offering a free 20-hour basic training disaster preparedness course. The course includes three Saturdays of training\, September 9th\, 16th\, and 23rd\, 2023\, from 8 am-4 pm at the Wrightwood Community Building. Participants must be 17 or older or be with a parent taking the course. The Basic CERT program consists of training focusing on first aid\, CPR\, and training for emergency preparedness for Wrightwood. Training is free. Attendees must attend ALL three sessions to be certified to be a member of the Wrightwood CERT. The training classes will be held at Wrightwood Community Building located at 1275 Hwy 2. To register or for further information\,
URL:https://wrightwoodevents.com/event/cert-monthly-basic-training-2-3/
LOCATION:Community Building\, 1275 Hwy 2\, Wrightwood\, CA\, 92397\, United States
CATEGORIES:Resident Filter
ATTACH;FMTTYPE=image/jpeg:https://wrightwoodevents.com/wp-content/uploads/2023/03/CERT-Logo.jpg
ORGANIZER;CN="Community Emergency Response Team":MAILTO:certwrightwood@gmail.com
END:VEVENT
BEGIN:VEVENT
DTSTART;TZID=America/Los_Angeles:20230916T100000
DTEND;TZID=America/Los_Angeles:20230916T150000
DTSTAMP:20260420T111156
CREATED:20230902T163104Z
LAST-MODIFIED:20230902T163435Z
UID:3640-1694858400-1694876400@wrightwoodevents.com
SUMMARY:Library Parking Lot Sale
DESCRIPTION:Library Parking Lot Sale September 16th 10am-3pm \nFill any Grocery Bag for $5
URL:https://wrightwoodevents.com/event/library-parking-lot-sale/
LOCATION:Wrightwood Library\, 6011 Pine St\, Wrightwood\, CA\, 92397\, United States
CATEGORIES:Resident Filter,Shopping,Visitor Filter
ATTACH;FMTTYPE=image/png:https://wrightwoodevents.com/wp-content/uploads/2023/09/booksale.png
ORGANIZER;CN="Wrightwood Library":MAILTO:wrightwoodlibraryfriends@gmail.com
END:VEVENT
BEGIN:VEVENT
DTSTART;TZID=America/Los_Angeles:20230902T100000
DTEND;TZID=America/Los_Angeles:20230902T160000
DTSTAMP:20260420T111156
CREATED:20230901T230054Z
LAST-MODIFIED:20230901T231351Z
UID:3593-1693648800-1693670400@wrightwoodevents.com
SUMMARY:Wrightwood History Museum
DESCRIPTION:Wrightwood History Museum\nOpen Hours Saturday 10AM – 4PM \n \n 
URL:https://wrightwoodevents.com/event/wrightwood-history-museum/
LOCATION:Old Firehouse\, 6000 Cedar St\, Wrightwood\, CA\, 92397\, United States
ATTACH;FMTTYPE=image/png:https://wrightwoodevents.com/wp-content/uploads/2023/04/Historical-Society.png
END:VEVENT
BEGIN:VEVENT
DTSTART;TZID=America/Los_Angeles:20230916T160000
DTEND;TZID=America/Los_Angeles:20230916T200000
DTSTAMP:20260420T111156
CREATED:20230721T201428Z
LAST-MODIFIED:20230721T201428Z
UID:3507-1694880000-1694894400@wrightwoodevents.com
SUMMARY:North Lodge Concert Series
DESCRIPTION:September 16 \nDancing Echoes \nCome groove to classic rock classics from Dancing Echoes. FREE from 4pm-8pm at the North Lodge.
URL:https://wrightwoodevents.com/event/north-lodge-concert-series-8/
LOCATION:North Lodge\, 24472 Forest Service Road\, Llano\, 93544\, United States
CATEGORIES:Music,Resident Filter,Visitor Filter
ATTACH;FMTTYPE=image/png:https://wrightwoodevents.com/wp-content/uploads/2023/07/9.16-Dancing-Echoes-North-Lodge.png
END:VEVENT
BEGIN:VEVENT
DTSTART;VALUE=DATE:20230903
DTEND;VALUE=DATE:20230904
DTSTAMP:20260420T111156
CREATED:20230902T143713Z
LAST-MODIFIED:20240719T144948Z
UID:3614-1693699200-1693785599@wrightwoodevents.com
SUMMARY:THE Sport SIM
DESCRIPTION:The Sport Sim of Wrightwood! \nWe are excited to introduce Wrightwood’s first Golf Simulator and Inline Hockey Shooting Bay. \nPlay your favorite course or tee off on the driving range. \nIf you want to try your skills at inline hockey\, the interactive games will test your abilities and maybe you have what it takes to become a PLAYER! \nOPEN Monday to Thursday 3pm to 7pm \nOPEN Friday 3pm to 9pm \nOPEN Saturdays 11am to 9pm \nOPEN Sundays 11am to 8pm
URL:https://wrightwoodevents.com/event/the-sport-sim-2/
LOCATION:THE Sport SIM\, 1350 State Highway 2\, Wrightwood\, CA\, 92397\, United States
CATEGORIES:Music,Resident Filter,Visitor Filter
ATTACH;FMTTYPE=image/jpeg:https://wrightwoodevents.com/wp-content/uploads/2023/07/The-Sport-Sim.jpg
ORGANIZER;CN="Team RDP Wrightwood Real Estate":MAILTO:eddielimbaga@gmail.com
END:VEVENT
BEGIN:VEVENT
DTSTART;TZID=America/Los_Angeles:20230627T090000
DTEND;TZID=America/Los_Angeles:20230627T110000
DTSTAMP:20260420T111156
CREATED:20230621T010742Z
LAST-MODIFIED:20230621T010742Z
UID:3452-1687856400-1687863600@wrightwoodevents.com
SUMMARY:Line Dancing
DESCRIPTION:Line Dancing at the CSD. \nTell your friends!
URL:https://wrightwoodevents.com/event/line-dancing/
LOCATION:Wrightwood Community Center\, 1275 Angeles Crest Hwy\, Wrightwood\, CA\, 92397\, United States
ORGANIZER;CN="Wrightwood CSD":MAILTO:office@wrightwoodcsd.org
END:VEVENT
BEGIN:VEVENT
DTSTART;TZID=America/Los_Angeles:20230901T150000
DTEND;TZID=America/Los_Angeles:20230901T180000
DTSTAMP:20260420T111156
CREATED:20230901T225436Z
LAST-MODIFIED:20240105T200929Z
UID:3590-1693580400-1693591200@wrightwoodevents.com
SUMMARY:Wrightwood Farmers Market
DESCRIPTION:Farmers Market providing the Tri-Community with local produce\, baked goods\, honey\, olive oil\, bread\, and more. \nFridays 3-6pm pending weather conditions. \n \n 
URL:https://wrightwoodevents.com/event/wrightwood-farmers-market/
LOCATION:Community Building\, 1275 Hwy 2\, Wrightwood\, CA\, 92397\, United States
ATTACH;FMTTYPE=image/jpeg:https://wrightwoodevents.com/wp-content/uploads/2023/03/Farmers-Market.jpg
END:VEVENT
BEGIN:VEVENT
DTSTART;VALUE=DATE:20230902
DTEND;VALUE=DATE:20230903
DTSTAMP:20260420T111156
CREATED:20230902T143632Z
LAST-MODIFIED:20240301T160033Z
UID:3611-1693612800-1693699199@wrightwoodevents.com
SUMMARY:THE Sport SIM
DESCRIPTION:The Sport Sim of Wrightwood! \nWe are excited to introduce Wrightwood’s first Golf Simulator and Inline Hockey Shooting Bay. \nPlay your favorite course or tee off on the driving range. \nIf you want to try your skills at inline hockey\, the interactive games will test your abilities and maybe you have what it takes to become a PLAYER! \nOPEN Wednesdays 4:30pm to 9pm \nOPEN Saturdays 11am to 9pm \nOPEN Sundays 11am to 8pm
URL:https://wrightwoodevents.com/event/the-sport-sim/
LOCATION:THE Sport SIM\, 1350 State Highway 2\, Wrightwood\, CA\, 92397\, United States
CATEGORIES:Music,Resident Filter,Visitor Filter
ATTACH;FMTTYPE=image/jpeg:https://wrightwoodevents.com/wp-content/uploads/2023/07/The-Sport-Sim.jpg
ORGANIZER;CN="Team RDP Wrightwood Real Estate":MAILTO:eddielimbaga@gmail.com
END:VEVENT
BEGIN:VEVENT
DTSTART;TZID=America/Los_Angeles:20230923T080000
DTEND;TZID=America/Los_Angeles:20230923T160000
DTSTAMP:20260420T111156
CREATED:20230907T025919Z
LAST-MODIFIED:20230907T025919Z
UID:3662-1695456000-1695484800@wrightwoodevents.com
SUMMARY:CERT Monthly Basic Training 3/3
DESCRIPTION:Community Emergency Response Team (CERT) is offering a free 20-hour basic training disaster preparedness course. The course includes three Saturdays of training\, September 9th\, 16th\, and 23rd\, 2023\, from 8 am-4 pm at the Wrightwood Community Building. Participants must be 17 or older or be with a parent taking the course. The Basic CERT program consists of training focusing on first aid\, CPR\, and training for emergency preparedness for Wrightwood. Training is free. Attendees must attend ALL three sessions to be certified to be a member of the Wrightwood CERT. The training classes will be held at Wrightwood Community Building located at 1275 Hwy 2. To register or for further information\,
URL:https://wrightwoodevents.com/event/cert-monthly-basic-training-3-3/
LOCATION:Community Building\, 1275 Hwy 2\, Wrightwood\, CA\, 92397\, United States
CATEGORIES:Resident Filter
ATTACH;FMTTYPE=image/jpeg:https://wrightwoodevents.com/wp-content/uploads/2023/03/CERT-Logo.jpg
ORGANIZER;CN="Community Emergency Response Team":MAILTO:certwrightwood@gmail.com
END:VEVENT
BEGIN:VEVENT
DTSTART;TZID=America/Los_Angeles:20230902T100000
DTEND;TZID=America/Los_Angeles:20230902T160000
DTSTAMP:20260420T111156
CREATED:20230901T230054Z
LAST-MODIFIED:20230901T231351Z
UID:3593-1693648800-1693670400@wrightwoodevents.com
SUMMARY:Wrightwood History Museum
DESCRIPTION:Wrightwood History Museum\nOpen Hours Saturday 10AM – 4PM \n \n 
URL:https://wrightwoodevents.com/event/wrightwood-history-museum/
LOCATION:Old Firehouse\, 6000 Cedar St\, Wrightwood\, CA\, 92397\, United States
ATTACH;FMTTYPE=image/png:https://wrightwoodevents.com/wp-content/uploads/2023/04/Historical-Society.png
END:VEVENT
BEGIN:VEVENT
DTSTART;TZID=America/Los_Angeles:20230923T160000
DTEND;TZID=America/Los_Angeles:20230923T200000
DTSTAMP:20260420T111156
CREATED:20230721T201701Z
LAST-MODIFIED:20230721T201701Z
UID:3512-1695484800-1695499200@wrightwoodevents.com
SUMMARY:North Lodge Concert Series
DESCRIPTION:September 23 \nWindy Ridge \nListen to great Country & Blues hits from Windy Ridge FREE from 4-8pm at the North Lodge.
URL:https://wrightwoodevents.com/event/north-lodge-concert-series-10/
LOCATION:North Lodge\, 24472 Forest Service Road\, Llano\, 93544\, United States
CATEGORIES:Music,Resident Filter,Visitor Filter
ATTACH;FMTTYPE=image/png:https://wrightwoodevents.com/wp-content/uploads/2023/07/9.23-Windy-Ridge-North-Lodge.png
END:VEVENT
BEGIN:VEVENT
DTSTART;VALUE=DATE:20230903
DTEND;VALUE=DATE:20230904
DTSTAMP:20260420T111156
CREATED:20230902T143713Z
LAST-MODIFIED:20240719T144948Z
UID:3614-1693699200-1693785599@wrightwoodevents.com
SUMMARY:THE Sport SIM
DESCRIPTION:The Sport Sim of Wrightwood! \nWe are excited to introduce Wrightwood’s first Golf Simulator and Inline Hockey Shooting Bay. \nPlay your favorite course or tee off on the driving range. \nIf you want to try your skills at inline hockey\, the interactive games will test your abilities and maybe you have what it takes to become a PLAYER! \nOPEN Monday to Thursday 3pm to 7pm \nOPEN Friday 3pm to 9pm \nOPEN Saturdays 11am to 9pm \nOPEN Sundays 11am to 8pm
URL:https://wrightwoodevents.com/event/the-sport-sim-2/
LOCATION:THE Sport SIM\, 1350 State Highway 2\, Wrightwood\, CA\, 92397\, United States
CATEGORIES:Music,Resident Filter,Visitor Filter
ATTACH;FMTTYPE=image/jpeg:https://wrightwoodevents.com/wp-content/uploads/2023/07/The-Sport-Sim.jpg
ORGANIZER;CN="Team RDP Wrightwood Real Estate":MAILTO:eddielimbaga@gmail.com
END:VEVENT
BEGIN:VEVENT
DTSTART;TZID=America/Los_Angeles:20230627T090000
DTEND;TZID=America/Los_Angeles:20230627T110000
DTSTAMP:20260420T111156
CREATED:20230621T010742Z
LAST-MODIFIED:20230621T010742Z
UID:3452-1687856400-1687863600@wrightwoodevents.com
SUMMARY:Line Dancing
DESCRIPTION:Line Dancing at the CSD. \nTell your friends!
URL:https://wrightwoodevents.com/event/line-dancing/
LOCATION:Wrightwood Community Center\, 1275 Angeles Crest Hwy\, Wrightwood\, CA\, 92397\, United States
ORGANIZER;CN="Wrightwood CSD":MAILTO:office@wrightwoodcsd.org
END:VEVENT
BEGIN:VEVENT
DTSTART;TZID=America/Los_Angeles:20230901T150000
DTEND;TZID=America/Los_Angeles:20230901T180000
DTSTAMP:20260420T111156
CREATED:20230901T225436Z
LAST-MODIFIED:20240105T200929Z
UID:3590-1693580400-1693591200@wrightwoodevents.com
SUMMARY:Wrightwood Farmers Market
DESCRIPTION:Farmers Market providing the Tri-Community with local produce\, baked goods\, honey\, olive oil\, bread\, and more. \nFridays 3-6pm pending weather conditions. \n \n 
URL:https://wrightwoodevents.com/event/wrightwood-farmers-market/
LOCATION:Community Building\, 1275 Hwy 2\, Wrightwood\, CA\, 92397\, United States
ATTACH;FMTTYPE=image/jpeg:https://wrightwoodevents.com/wp-content/uploads/2023/03/Farmers-Market.jpg
END:VEVENT
BEGIN:VEVENT
DTSTART;VALUE=DATE:20230902
DTEND;VALUE=DATE:20230903
DTSTAMP:20260420T111156
CREATED:20230902T143632Z
LAST-MODIFIED:20240301T160033Z
UID:3611-1693612800-1693699199@wrightwoodevents.com
SUMMARY:THE Sport SIM
DESCRIPTION:The Sport Sim of Wrightwood! \nWe are excited to introduce Wrightwood’s first Golf Simulator and Inline Hockey Shooting Bay. \nPlay your favorite course or tee off on the driving range. \nIf you want to try your skills at inline hockey\, the interactive games will test your abilities and maybe you have what it takes to become a PLAYER! \nOPEN Wednesdays 4:30pm to 9pm \nOPEN Saturdays 11am to 9pm \nOPEN Sundays 11am to 8pm
URL:https://wrightwoodevents.com/event/the-sport-sim/
LOCATION:THE Sport SIM\, 1350 State Highway 2\, Wrightwood\, CA\, 92397\, United States
CATEGORIES:Music,Resident Filter,Visitor Filter
ATTACH;FMTTYPE=image/jpeg:https://wrightwoodevents.com/wp-content/uploads/2023/07/The-Sport-Sim.jpg
ORGANIZER;CN="Team RDP Wrightwood Real Estate":MAILTO:eddielimbaga@gmail.com
END:VEVENT
BEGIN:VEVENT
DTSTART;TZID=America/Los_Angeles:20230930T053000
DTEND;TZID=America/Los_Angeles:20230930T210000
DTSTAMP:20260420T111156
CREATED:20230727T010012Z
LAST-MODIFIED:20230727T010012Z
UID:3465-1696051800-1696107600@wrightwoodevents.com
SUMMARY:Peter\, Paul\, and Mary Tribute
DESCRIPTION:Gayle & Company present an evening of folk music and stirring harmonies. More information on tickets and dinner to be determined.
URL:https://wrightwoodevents.com/event/peter-paul-and-mary-tribute/
CATEGORIES:Music
ATTACH;FMTTYPE=image/jpeg:https://wrightwoodevents.com/wp-content/uploads/2023/06/509D249A-8AD8-455E-84E6-C5954DA45DE1-scaled.jpeg
END:VEVENT
BEGIN:VEVENT
DTSTART;TZID=America/Los_Angeles:20230902T100000
DTEND;TZID=America/Los_Angeles:20230902T160000
DTSTAMP:20260420T111156
CREATED:20230901T230054Z
LAST-MODIFIED:20230901T231351Z
UID:3593-1693648800-1693670400@wrightwoodevents.com
SUMMARY:Wrightwood History Museum
DESCRIPTION:Wrightwood History Museum\nOpen Hours Saturday 10AM – 4PM \n \n 
URL:https://wrightwoodevents.com/event/wrightwood-history-museum/
LOCATION:Old Firehouse\, 6000 Cedar St\, Wrightwood\, CA\, 92397\, United States
ATTACH;FMTTYPE=image/png:https://wrightwoodevents.com/wp-content/uploads/2023/04/Historical-Society.png
END:VEVENT
END:VCALENDAR