BEGIN:VCALENDAR
VERSION:2.0
PRODID:-//Wrightwood Events - ECPv6.15.20//NONSGML v1.0//EN
CALSCALE:GREGORIAN
METHOD:PUBLISH
X-ORIGINAL-URL:https://wrightwoodevents.com
X-WR-CALDESC:Events for Wrightwood Events
REFRESH-INTERVAL;VALUE=DURATION:PT1H
X-Robots-Tag:noindex
X-PUBLISHED-TTL:PT1H
BEGIN:VTIMEZONE
TZID:America/Los_Angeles
BEGIN:DAYLIGHT
TZOFFSETFROM:-0800
TZOFFSETTO:-0700
TZNAME:PDT
DTSTART:20230312T100000
END:DAYLIGHT
BEGIN:STANDARD
TZOFFSETFROM:-0700
TZOFFSETTO:-0800
TZNAME:PST
DTSTART:20231105T090000
END:STANDARD
BEGIN:DAYLIGHT
TZOFFSETFROM:-0800
TZOFFSETTO:-0700
TZNAME:PDT
DTSTART:20240310T100000
END:DAYLIGHT
BEGIN:STANDARD
TZOFFSETFROM:-0700
TZOFFSETTO:-0800
TZNAME:PST
DTSTART:20241103T090000
END:STANDARD
BEGIN:DAYLIGHT
TZOFFSETFROM:-0800
TZOFFSETTO:-0700
TZNAME:PDT
DTSTART:20250309T100000
END:DAYLIGHT
BEGIN:STANDARD
TZOFFSETFROM:-0700
TZOFFSETTO:-0800
TZNAME:PST
DTSTART:20251102T090000
END:STANDARD
END:VTIMEZONE
BEGIN:VTIMEZONE
TZID:America/Los_Angeles
BEGIN:DAYLIGHT
TZOFFSETFROM:-0800
TZOFFSETTO:-0700
TZNAME:PDT
DTSTART:20220313T100000
END:DAYLIGHT
BEGIN:STANDARD
TZOFFSETFROM:-0700
TZOFFSETTO:-0800
TZNAME:PST
DTSTART:20221106T090000
END:STANDARD
BEGIN:DAYLIGHT
TZOFFSETFROM:-0800
TZOFFSETTO:-0700
TZNAME:PDT
DTSTART:20230312T100000
END:DAYLIGHT
BEGIN:STANDARD
TZOFFSETFROM:-0700
TZOFFSETTO:-0800
TZNAME:PST
DTSTART:20231105T090000
END:STANDARD
BEGIN:DAYLIGHT
TZOFFSETFROM:-0800
TZOFFSETTO:-0700
TZNAME:PDT
DTSTART:20240310T100000
END:DAYLIGHT
BEGIN:STANDARD
TZOFFSETFROM:-0700
TZOFFSETTO:-0800
TZNAME:PST
DTSTART:20241103T090000
END:STANDARD
BEGIN:DAYLIGHT
TZOFFSETFROM:-0800
TZOFFSETTO:-0700
TZNAME:PDT
DTSTART:20250309T100000
END:DAYLIGHT
BEGIN:STANDARD
TZOFFSETFROM:-0700
TZOFFSETTO:-0800
TZNAME:PST
DTSTART:20251102T090000
END:STANDARD
END:VTIMEZONE
BEGIN:VEVENT
DTSTART;TZID=America/Los_Angeles:20240101T083000
DTEND;TZID=America/Los_Angeles:20240101T093000
DTSTAMP:20260419T225326
CREATED:20231223T215343Z
LAST-MODIFIED:20231223T215343Z
UID:3806-1704097800-1704101400@wrightwoodevents.com
SUMMARY:Health & Wellness Class
DESCRIPTION:
URL:https://wrightwoodevents.com/event/health-wellness-class-4/
LOCATION:Old Firehouse\, 6000 Cedar St.\,  Wrightwood\, CA\, 92397\, United States\, 6000 Cedar St.\, Wrightwood\, CA\, 92397\, United States
CATEGORIES:Resident Filter,Visitor Filter
ATTACH;FMTTYPE=image/jpeg:https://wrightwoodevents.com/wp-content/uploads/2023/12/323116914_3373658756248561_5291816309449296766_n.jpg
END:VEVENT
BEGIN:VEVENT
DTSTART;TZID=America/Los_Angeles:20231225T093000
DTEND;TZID=America/Los_Angeles:20231225T110000
DTSTAMP:20260419T225326
CREATED:20231223T214617Z
LAST-MODIFIED:20231223T215539Z
UID:3799-1703496600-1703502000@wrightwoodevents.com
SUMMARY:Fitness in The Forest
DESCRIPTION:
URL:https://wrightwoodevents.com/event/fitness-in-the-forest/
LOCATION:Community Building\, 1275 Hwy 2\, Wrightwood\, CA\, 92397\, United States
CATEGORIES:Resident Filter,Visitor Filter
ATTACH;FMTTYPE=image/png:https://wrightwoodevents.com/wp-content/uploads/2023/12/Fitness-in-Forest.png
ORGANIZER;CN="Timberline Lions Club of Wrightwood":MAILTO:vic3407@gmail.com
END:VEVENT
BEGIN:VEVENT
DTSTART;TZID=America/Los_Angeles:20230627T090000
DTEND;TZID=America/Los_Angeles:20230627T110000
DTSTAMP:20260419T225326
CREATED:20230621T010742Z
LAST-MODIFIED:20230621T010742Z
UID:3452-1687856400-1687863600@wrightwoodevents.com
SUMMARY:Line Dancing
DESCRIPTION:Line Dancing at the CSD. \nTell your friends!
URL:https://wrightwoodevents.com/event/line-dancing/
LOCATION:Wrightwood Community Center\, 1275 Angeles Crest Hwy\, Wrightwood\, CA\, 92397\, United States
ORGANIZER;CN="Wrightwood CSD":MAILTO:office@wrightwoodcsd.org
END:VEVENT
BEGIN:VEVENT
DTSTART;TZID=America/Los_Angeles:20240101T083000
DTEND;TZID=America/Los_Angeles:20240101T093000
DTSTAMP:20260419T225326
CREATED:20231223T215343Z
LAST-MODIFIED:20231223T215343Z
UID:3806-1704097800-1704101400@wrightwoodevents.com
SUMMARY:Health & Wellness Class
DESCRIPTION:
URL:https://wrightwoodevents.com/event/health-wellness-class-4/
LOCATION:Old Firehouse\, 6000 Cedar St.\,  Wrightwood\, CA\, 92397\, United States\, 6000 Cedar St.\, Wrightwood\, CA\, 92397\, United States
CATEGORIES:Resident Filter,Visitor Filter
ATTACH;FMTTYPE=image/jpeg:https://wrightwoodevents.com/wp-content/uploads/2023/12/323116914_3373658756248561_5291816309449296766_n.jpg
END:VEVENT
BEGIN:VEVENT
DTSTART;TZID=America/Los_Angeles:20240101T083000
DTEND;TZID=America/Los_Angeles:20240101T093000
DTSTAMP:20260419T225326
CREATED:20231223T215343Z
LAST-MODIFIED:20231223T215343Z
UID:3806-1704097800-1704101400@wrightwoodevents.com
SUMMARY:Health & Wellness Class
DESCRIPTION:
URL:https://wrightwoodevents.com/event/health-wellness-class-4/
LOCATION:Old Firehouse\, 6000 Cedar St.\,  Wrightwood\, CA\, 92397\, United States\, 6000 Cedar St.\, Wrightwood\, CA\, 92397\, United States
CATEGORIES:Resident Filter,Visitor Filter
ATTACH;FMTTYPE=image/jpeg:https://wrightwoodevents.com/wp-content/uploads/2023/12/323116914_3373658756248561_5291816309449296766_n.jpg
END:VEVENT
BEGIN:VEVENT
DTSTART;TZID=America/Los_Angeles:20240104T160000
DTEND;TZID=America/Los_Angeles:20240104T210000
DTSTAMP:20260419T225326
CREATED:20231223T210157Z
LAST-MODIFIED:20231223T210157Z
UID:3792-1704384000-1704402000@wrightwoodevents.com
SUMMARY:Bingo Game Night
DESCRIPTION:
URL:https://wrightwoodevents.com/event/bingo-game-night-5/
LOCATION:Community Building\, 1275 Hwy 2\, Wrightwood\, CA\, 92397\, United States
CATEGORIES:Resident Filter,Visitor Filter
ATTACH;FMTTYPE=image/jpeg:https://wrightwoodevents.com/wp-content/uploads/2023/03/Bingo.jpg
ORGANIZER;CN="Timberline Lions Club of Wrightwood":MAILTO:vic3407@gmail.com
END:VEVENT
BEGIN:VEVENT
DTSTART;TZID=America/Los_Angeles:20240105T160000
DTEND;TZID=America/Los_Angeles:20240105T190000
DTSTAMP:20260419T225326
CREATED:20240105T200942Z
LAST-MODIFIED:20250328T211050Z
UID:3916-1704470400-1704481200@wrightwoodevents.com
SUMMARY:Wrightwood Farmers Market
DESCRIPTION:Farmers Market providing the Tri-Community with local produce\, baked goods\, honey\, olive oil\, bread\, and more. \nFridays 4-7pm \n \n 
URL:https://wrightwoodevents.com/event/wrightwood-farmers-market-2/
LOCATION:Community Building\, 1275 Hwy 2\, Wrightwood\, CA\, 92397\, United States
ATTACH;FMTTYPE=image/jpeg:https://wrightwoodevents.com/wp-content/uploads/2023/03/Farmers-Market.jpg
END:VEVENT
BEGIN:VEVENT
DTSTART;TZID=America/Los_Angeles:20240105T193000
DTEND;TZID=America/Los_Angeles:20240105T223000
DTSTAMP:20260419T225326
CREATED:20240105T202154Z
LAST-MODIFIED:20240105T202154Z
UID:3918-1704483000-1704493800@wrightwoodevents.com
SUMMARY:The Yodelers Blues Night Open Mic
DESCRIPTION:Come and enjoy the first Blues Open Mic of the year. Special guest of the night will feature Steve Riddle. Sing\, play & dance with the house band.  Presented by the Wrightwood Blues Society. Food & beverages available.
URL:https://wrightwoodevents.com/event/the-yodelers-blues-night-open-mic/
LOCATION:The Yodeler\, 6046 Park Drive\, Wrightwood\, CA\, 92397\, United States
CATEGORIES:Food,Music,Resident Filter,Visitor Filter
ATTACH;FMTTYPE=image/jpeg:https://wrightwoodevents.com/wp-content/uploads/2024/01/OCT-2022-2022yodeler352.jpg
END:VEVENT
BEGIN:VEVENT
DTSTART;VALUE=DATE:20230902
DTEND;VALUE=DATE:20230903
DTSTAMP:20260419T225326
CREATED:20230902T143632Z
LAST-MODIFIED:20240301T160033Z
UID:3611-1693612800-1693699199@wrightwoodevents.com
SUMMARY:THE Sport SIM
DESCRIPTION:The Sport Sim of Wrightwood! \nWe are excited to introduce Wrightwood’s first Golf Simulator and Inline Hockey Shooting Bay. \nPlay your favorite course or tee off on the driving range. \nIf you want to try your skills at inline hockey\, the interactive games will test your abilities and maybe you have what it takes to become a PLAYER! \nOPEN Wednesdays 4:30pm to 9pm \nOPEN Saturdays 11am to 9pm \nOPEN Sundays 11am to 8pm
URL:https://wrightwoodevents.com/event/the-sport-sim/
LOCATION:THE Sport SIM\, 1350 State Highway 2\, Wrightwood\, CA\, 92397\, United States
CATEGORIES:Music,Resident Filter,Visitor Filter
ATTACH;FMTTYPE=image/jpeg:https://wrightwoodevents.com/wp-content/uploads/2023/07/The-Sport-Sim.jpg
ORGANIZER;CN="Team RDP Wrightwood Real Estate":MAILTO:eddielimbaga@gmail.com
END:VEVENT
BEGIN:VEVENT
DTSTART;TZID=America/Los_Angeles:20240106T100000
DTEND;TZID=America/Los_Angeles:20240106T150000
DTSTAMP:20260419T225326
CREATED:20240105T203223Z
LAST-MODIFIED:20240105T203243Z
UID:3922-1704535200-1704553200@wrightwoodevents.com
SUMMARY:Wrightwood Artisans Boutique & Craft Fair
DESCRIPTION:Come by and browse unique one-of-a-kind art\, home decor\, handcrafted gifts from several local artisans!
URL:https://wrightwoodevents.com/event/wrightwood-artisans-boutique-craft-fair/
LOCATION:Wrightwood Artisans Boutique\, 5995 Cedar St.\, Wrightwood\, CA\, 92397\, United States
CATEGORIES:Resident Filter,Visitor Filter
ATTACH;FMTTYPE=image/jpeg:https://wrightwoodevents.com/wp-content/uploads/2024/01/2023-10-09.jpg
END:VEVENT
BEGIN:VEVENT
DTSTART;TZID=America/Los_Angeles:20230902T100000
DTEND;TZID=America/Los_Angeles:20230902T160000
DTSTAMP:20260419T225326
CREATED:20230901T230054Z
LAST-MODIFIED:20230901T231351Z
UID:3593-1693648800-1693670400@wrightwoodevents.com
SUMMARY:Wrightwood History Museum
DESCRIPTION:Wrightwood History Museum\nOpen Hours Saturday 10AM – 4PM \n \n 
URL:https://wrightwoodevents.com/event/wrightwood-history-museum/
LOCATION:Old Firehouse\, 6000 Cedar St\, Wrightwood\, CA\, 92397\, United States
ATTACH;FMTTYPE=image/png:https://wrightwoodevents.com/wp-content/uploads/2023/04/Historical-Society.png
END:VEVENT
BEGIN:VEVENT
DTSTART;VALUE=DATE:20240107
DTEND;VALUE=DATE:20240108
DTSTAMP:20260419T225326
CREATED:20231229T222731Z
LAST-MODIFIED:20240719T144854Z
UID:3871-1704585600-1704671999@wrightwoodevents.com
SUMMARY:THE Sport SIM
DESCRIPTION:The Sport Sim of Wrightwood! \nWe are excited to introduce Wrightwood’s first Golf Simulator and Inline Hockey Shooting Bay. \nPlay your favorite course or tee off on the driving range. \nIf you want to try your skills at inline hockey\, the interactive games will test your abilities and maybe you have what it takes to become a PLAYER! \nOPEN Monday to Thursday 3pm to 7pm \nOPEN Friday 3pm to 9pm \nOPEN Saturdays 11am to 9pm \nOPEN Sundays 11am to 8pm
URL:https://wrightwoodevents.com/event/the-sport-sim-2-2/
LOCATION:THE Sport SIM\, 1350 State Highway 2\, Wrightwood\, CA\, 92397\, United States
CATEGORIES:Music,Resident Filter,Visitor Filter
ATTACH;FMTTYPE=image/jpeg:https://wrightwoodevents.com/wp-content/uploads/2023/07/The-Sport-Sim.jpg
ORGANIZER;CN="Team RDP Wrightwood Real Estate":MAILTO:eddielimbaga@gmail.com
END:VEVENT
BEGIN:VEVENT
DTSTART;TZID=America/Los_Angeles:20240101T083000
DTEND;TZID=America/Los_Angeles:20240101T093000
DTSTAMP:20260419T225326
CREATED:20231223T215343Z
LAST-MODIFIED:20231223T215343Z
UID:3806-1704097800-1704101400@wrightwoodevents.com
SUMMARY:Health & Wellness Class
DESCRIPTION:
URL:https://wrightwoodevents.com/event/health-wellness-class-4/
LOCATION:Old Firehouse\, 6000 Cedar St.\,  Wrightwood\, CA\, 92397\, United States\, 6000 Cedar St.\, Wrightwood\, CA\, 92397\, United States
CATEGORIES:Resident Filter,Visitor Filter
ATTACH;FMTTYPE=image/jpeg:https://wrightwoodevents.com/wp-content/uploads/2023/12/323116914_3373658756248561_5291816309449296766_n.jpg
END:VEVENT
BEGIN:VEVENT
DTSTART;TZID=America/Los_Angeles:20231225T093000
DTEND;TZID=America/Los_Angeles:20231225T110000
DTSTAMP:20260419T225326
CREATED:20231223T214617Z
LAST-MODIFIED:20231223T215539Z
UID:3799-1703496600-1703502000@wrightwoodevents.com
SUMMARY:Fitness in The Forest
DESCRIPTION:
URL:https://wrightwoodevents.com/event/fitness-in-the-forest/
LOCATION:Community Building\, 1275 Hwy 2\, Wrightwood\, CA\, 92397\, United States
CATEGORIES:Resident Filter,Visitor Filter
ATTACH;FMTTYPE=image/png:https://wrightwoodevents.com/wp-content/uploads/2023/12/Fitness-in-Forest.png
ORGANIZER;CN="Timberline Lions Club of Wrightwood":MAILTO:vic3407@gmail.com
END:VEVENT
BEGIN:VEVENT
DTSTART;TZID=America/Los_Angeles:20230627T090000
DTEND;TZID=America/Los_Angeles:20230627T110000
DTSTAMP:20260419T225326
CREATED:20230621T010742Z
LAST-MODIFIED:20230621T010742Z
UID:3452-1687856400-1687863600@wrightwoodevents.com
SUMMARY:Line Dancing
DESCRIPTION:Line Dancing at the CSD. \nTell your friends!
URL:https://wrightwoodevents.com/event/line-dancing/
LOCATION:Wrightwood Community Center\, 1275 Angeles Crest Hwy\, Wrightwood\, CA\, 92397\, United States
ORGANIZER;CN="Wrightwood CSD":MAILTO:office@wrightwoodcsd.org
END:VEVENT
BEGIN:VEVENT
DTSTART;TZID=America/Los_Angeles:20240109T180000
DTEND;TZID=America/Los_Angeles:20240109T203000
DTSTAMP:20260419T225326
CREATED:20231223T220108Z
LAST-MODIFIED:20231223T223945Z
UID:3810-1704823200-1704832200@wrightwoodevents.com
SUMMARY:Pine Needles Quilt Guild
DESCRIPTION:Organizer\n\nPine Needles Quilt Guild\nPhone:\n760-408-3545\nEmail:\nlynnjcrawford@gmail.com
URL:https://wrightwoodevents.com/event/pine-needles-quilt-guild-8/
LOCATION:CSD Building\, 1275 Hwy 2\, Wrightwood\, CA\, 92397\, United States
CATEGORIES:Resident Filter,Visitor Filter
ATTACH;FMTTYPE=image/webp:https://wrightwoodevents.com/wp-content/uploads/2023/03/Quilting.webp
END:VEVENT
BEGIN:VEVENT
DTSTART;TZID=America/Los_Angeles:20240101T083000
DTEND;TZID=America/Los_Angeles:20240101T093000
DTSTAMP:20260419T225326
CREATED:20231223T215343Z
LAST-MODIFIED:20231223T215343Z
UID:3806-1704097800-1704101400@wrightwoodevents.com
SUMMARY:Health & Wellness Class
DESCRIPTION:
URL:https://wrightwoodevents.com/event/health-wellness-class-4/
LOCATION:Old Firehouse\, 6000 Cedar St.\,  Wrightwood\, CA\, 92397\, United States\, 6000 Cedar St.\, Wrightwood\, CA\, 92397\, United States
CATEGORIES:Resident Filter,Visitor Filter
ATTACH;FMTTYPE=image/jpeg:https://wrightwoodevents.com/wp-content/uploads/2023/12/323116914_3373658756248561_5291816309449296766_n.jpg
END:VEVENT
BEGIN:VEVENT
DTSTART;TZID=America/Los_Angeles:20240110T090000
DTEND;TZID=America/Los_Angeles:20240110T160000
DTSTAMP:20260419T225326
CREATED:20240105T222703Z
LAST-MODIFIED:20240105T222703Z
UID:3933-1704877200-1704902400@wrightwoodevents.com
SUMMARY:Adult Cornhole
DESCRIPTION:Games are played in the Community Building on Wednesdays from 6:30pm to 7:30pm. Players must form their own teams. Teams must have a minimum of 2 players and a maximum of 4 players. All players must be at least 18 years old. There are 6 weeks of regular games and the 7th week is playoffs. All teams go to the playoffs. The playoff champions win $100. Registration fees are $50 per team. Team Captains are responsible for paying registration fees and must attend a mandatory Team Captain’s meeting before the season begins.  All players must have a completed registration form on file. Registration January 22\, 2024 \n  \nClick Here to Complete the Registration Form
URL:https://wrightwoodevents.com/event/adult-cornhole/
LOCATION:Wrightwood Community Center\, 1275 Angeles Crest Hwy\, Wrightwood\, CA\, 92397\, United States
CATEGORIES:Resident Filter
ATTACH;FMTTYPE=image/jpeg:https://wrightwoodevents.com/wp-content/uploads/2024/01/cornhole-3752877_640.jpg
END:VEVENT
BEGIN:VEVENT
DTSTART;TZID=America/Los_Angeles:20240110T090000
DTEND;TZID=America/Los_Angeles:20240110T160000
DTSTAMP:20260419T225326
CREATED:20240105T223132Z
LAST-MODIFIED:20240105T223132Z
UID:3929-1704877200-1704902400@wrightwoodevents.com
SUMMARY:Teen and Adult Dance Fitness
DESCRIPTION:Dance Fitness classes will take place in the Community Building on Monday evenings from 6:00pm to 7:00pm. This is an all levels\, energetic class with elements of Zumba\, hip hop\, jazz and cardio. All participants must have a completed registration form on file to attend class. Must be at least 16 years old to participate. Registration Deadline is January 24\, 2024. \n  \nClick Here to Complete the Registration Form
URL:https://wrightwoodevents.com/event/teen-and-adult-dance-fitness/
LOCATION:Wrightwood Community Center\, 1275 Angeles Crest Hwy\, Wrightwood\, CA\, 92397\, United States
CATEGORIES:Resident Filter
ATTACH;FMTTYPE=image/webp:https://wrightwoodevents.com/wp-content/uploads/2024/01/man-2956377_640.webp
END:VEVENT
BEGIN:VEVENT
DTSTART;TZID=America/Los_Angeles:20240110T090000
DTEND;TZID=America/Los_Angeles:20240115T160000
DTSTAMP:20260419T225326
CREATED:20240105T222513Z
LAST-MODIFIED:20240105T222513Z
UID:3926-1704877200-1705334400@wrightwoodevents.com
SUMMARY:Kids Dance Class
DESCRIPTION:All kids dance classes will take place in the Community Building on Saturday mornings starting on the 27th of January. All participants must have a completed registration form on file to attend class. All classes are 7 weeks in length and will include a dance recital the final week. Exceptions to age requirements are at the discretion of the instructor. Registration deadline is January 24\, 2024. \n  \nCreative Movement (Ages 4-8yrs):  9:30am – 10:30am  Click Here to Complete the Registration Form \nBallet (Ages 6-12yrs): 10:30am – 11:30am  Click Here to Complete the Registration Form
URL:https://wrightwoodevents.com/event/kids-dance-class/
LOCATION:Wrightwood Community Center\, 1275 Angeles Crest Hwy\, Wrightwood\, CA\, 92397\, United States
CATEGORIES:Resident Filter
ATTACH;FMTTYPE=image/jpeg:https://wrightwoodevents.com/wp-content/uploads/2024/01/ballet-4941737_1280.jpg
END:VEVENT
BEGIN:VEVENT
DTSTART;TZID=America/Los_Angeles:20240110T093000
DTEND;TZID=America/Los_Angeles:20240110T110000
DTSTAMP:20260419T225326
CREATED:20231223T221237Z
LAST-MODIFIED:20231223T230340Z
UID:3812-1704879000-1704884400@wrightwoodevents.com
SUMMARY:WWPOA Board Meeting
DESCRIPTION:
URL:https://wrightwoodevents.com/event/wwpoa-board-meeting/
LOCATION:Old Firehouse\, 6000 Cedar St.\,  Wrightwood\, CA\, 92397\, United States\, 6000 Cedar St.\, Wrightwood\, CA\, 92397\, United States
CATEGORIES:Resident Filter
ATTACH;FMTTYPE=image/jpeg:https://wrightwoodevents.com/wp-content/uploads/2023/12/logoCLRwwpoa.jpeg
END:VEVENT
BEGIN:VEVENT
DTSTART;TZID=America/Los_Angeles:20240101T083000
DTEND;TZID=America/Los_Angeles:20240101T093000
DTSTAMP:20260419T225326
CREATED:20231223T215343Z
LAST-MODIFIED:20231223T215343Z
UID:3806-1704097800-1704101400@wrightwoodevents.com
SUMMARY:Health & Wellness Class
DESCRIPTION:
URL:https://wrightwoodevents.com/event/health-wellness-class-4/
LOCATION:Old Firehouse\, 6000 Cedar St.\,  Wrightwood\, CA\, 92397\, United States\, 6000 Cedar St.\, Wrightwood\, CA\, 92397\, United States
CATEGORIES:Resident Filter,Visitor Filter
ATTACH;FMTTYPE=image/jpeg:https://wrightwoodevents.com/wp-content/uploads/2023/12/323116914_3373658756248561_5291816309449296766_n.jpg
END:VEVENT
BEGIN:VEVENT
DTSTART;TZID=America/Los_Angeles:20240112T080000
DTEND;TZID=America/Los_Angeles:20240112T110000
DTSTAMP:20260419T225326
CREATED:20231223T221948Z
LAST-MODIFIED:20231223T221948Z
UID:3817-1705046400-1705057200@wrightwoodevents.com
SUMMARY:Tri-Community Co-op
DESCRIPTION:Facebook Page: https://www.facebook.com/TriCommunityCoop/
URL:https://wrightwoodevents.com/event/tri-community-co-op-14/
LOCATION:Community Building\, 1275 Hwy 2\, Wrightwood\, CA\, 92397\, United States
CATEGORIES:Resident Filter
ATTACH;FMTTYPE=image/png:https://wrightwoodevents.com/wp-content/uploads/2023/03/IMG_3477.png
ORGANIZER;CN="Tri-Community Co-op":MAILTO:tricommunitycoop@gmail.com
END:VEVENT
BEGIN:VEVENT
DTSTART;TZID=America/Los_Angeles:20240105T160000
DTEND;TZID=America/Los_Angeles:20240105T190000
DTSTAMP:20260419T225326
CREATED:20240105T200942Z
LAST-MODIFIED:20250328T211050Z
UID:3916-1704470400-1704481200@wrightwoodevents.com
SUMMARY:Wrightwood Farmers Market
DESCRIPTION:Farmers Market providing the Tri-Community with local produce\, baked goods\, honey\, olive oil\, bread\, and more. \nFridays 4-7pm \n \n 
URL:https://wrightwoodevents.com/event/wrightwood-farmers-market-2/
LOCATION:Community Building\, 1275 Hwy 2\, Wrightwood\, CA\, 92397\, United States
ATTACH;FMTTYPE=image/jpeg:https://wrightwoodevents.com/wp-content/uploads/2023/03/Farmers-Market.jpg
END:VEVENT
BEGIN:VEVENT
DTSTART;VALUE=DATE:20230902
DTEND;VALUE=DATE:20230903
DTSTAMP:20260419T225326
CREATED:20230902T143632Z
LAST-MODIFIED:20240301T160033Z
UID:3611-1693612800-1693699199@wrightwoodevents.com
SUMMARY:THE Sport SIM
DESCRIPTION:The Sport Sim of Wrightwood! \nWe are excited to introduce Wrightwood’s first Golf Simulator and Inline Hockey Shooting Bay. \nPlay your favorite course or tee off on the driving range. \nIf you want to try your skills at inline hockey\, the interactive games will test your abilities and maybe you have what it takes to become a PLAYER! \nOPEN Wednesdays 4:30pm to 9pm \nOPEN Saturdays 11am to 9pm \nOPEN Sundays 11am to 8pm
URL:https://wrightwoodevents.com/event/the-sport-sim/
LOCATION:THE Sport SIM\, 1350 State Highway 2\, Wrightwood\, CA\, 92397\, United States
CATEGORIES:Music,Resident Filter,Visitor Filter
ATTACH;FMTTYPE=image/jpeg:https://wrightwoodevents.com/wp-content/uploads/2023/07/The-Sport-Sim.jpg
ORGANIZER;CN="Team RDP Wrightwood Real Estate":MAILTO:eddielimbaga@gmail.com
END:VEVENT
BEGIN:VEVENT
DTSTART;TZID=America/Los_Angeles:20230902T100000
DTEND;TZID=America/Los_Angeles:20230902T160000
DTSTAMP:20260419T225326
CREATED:20230901T230054Z
LAST-MODIFIED:20230901T231351Z
UID:3593-1693648800-1693670400@wrightwoodevents.com
SUMMARY:Wrightwood History Museum
DESCRIPTION:Wrightwood History Museum\nOpen Hours Saturday 10AM – 4PM \n \n 
URL:https://wrightwoodevents.com/event/wrightwood-history-museum/
LOCATION:Old Firehouse\, 6000 Cedar St\, Wrightwood\, CA\, 92397\, United States
ATTACH;FMTTYPE=image/png:https://wrightwoodevents.com/wp-content/uploads/2023/04/Historical-Society.png
END:VEVENT
BEGIN:VEVENT
DTSTART;VALUE=DATE:20240107
DTEND;VALUE=DATE:20240108
DTSTAMP:20260419T225326
CREATED:20231229T222731Z
LAST-MODIFIED:20240719T144854Z
UID:3871-1704585600-1704671999@wrightwoodevents.com
SUMMARY:THE Sport SIM
DESCRIPTION:The Sport Sim of Wrightwood! \nWe are excited to introduce Wrightwood’s first Golf Simulator and Inline Hockey Shooting Bay. \nPlay your favorite course or tee off on the driving range. \nIf you want to try your skills at inline hockey\, the interactive games will test your abilities and maybe you have what it takes to become a PLAYER! \nOPEN Monday to Thursday 3pm to 7pm \nOPEN Friday 3pm to 9pm \nOPEN Saturdays 11am to 9pm \nOPEN Sundays 11am to 8pm
URL:https://wrightwoodevents.com/event/the-sport-sim-2-2/
LOCATION:THE Sport SIM\, 1350 State Highway 2\, Wrightwood\, CA\, 92397\, United States
CATEGORIES:Music,Resident Filter,Visitor Filter
ATTACH;FMTTYPE=image/jpeg:https://wrightwoodevents.com/wp-content/uploads/2023/07/The-Sport-Sim.jpg
ORGANIZER;CN="Team RDP Wrightwood Real Estate":MAILTO:eddielimbaga@gmail.com
END:VEVENT
BEGIN:VEVENT
DTSTART;TZID=America/Los_Angeles:20240101T083000
DTEND;TZID=America/Los_Angeles:20240101T093000
DTSTAMP:20260419T225326
CREATED:20231223T215343Z
LAST-MODIFIED:20231223T215343Z
UID:3806-1704097800-1704101400@wrightwoodevents.com
SUMMARY:Health & Wellness Class
DESCRIPTION:
URL:https://wrightwoodevents.com/event/health-wellness-class-4/
LOCATION:Old Firehouse\, 6000 Cedar St.\,  Wrightwood\, CA\, 92397\, United States\, 6000 Cedar St.\, Wrightwood\, CA\, 92397\, United States
CATEGORIES:Resident Filter,Visitor Filter
ATTACH;FMTTYPE=image/jpeg:https://wrightwoodevents.com/wp-content/uploads/2023/12/323116914_3373658756248561_5291816309449296766_n.jpg
END:VEVENT
BEGIN:VEVENT
DTSTART;TZID=America/Los_Angeles:20231225T093000
DTEND;TZID=America/Los_Angeles:20231225T110000
DTSTAMP:20260419T225326
CREATED:20231223T214617Z
LAST-MODIFIED:20231223T215539Z
UID:3799-1703496600-1703502000@wrightwoodevents.com
SUMMARY:Fitness in The Forest
DESCRIPTION:
URL:https://wrightwoodevents.com/event/fitness-in-the-forest/
LOCATION:Community Building\, 1275 Hwy 2\, Wrightwood\, CA\, 92397\, United States
CATEGORIES:Resident Filter,Visitor Filter
ATTACH;FMTTYPE=image/png:https://wrightwoodevents.com/wp-content/uploads/2023/12/Fitness-in-Forest.png
ORGANIZER;CN="Timberline Lions Club of Wrightwood":MAILTO:vic3407@gmail.com
END:VEVENT
BEGIN:VEVENT
DTSTART;TZID=America/Los_Angeles:20230627T090000
DTEND;TZID=America/Los_Angeles:20230627T110000
DTSTAMP:20260419T225326
CREATED:20230621T010742Z
LAST-MODIFIED:20230621T010742Z
UID:3452-1687856400-1687863600@wrightwoodevents.com
SUMMARY:Line Dancing
DESCRIPTION:Line Dancing at the CSD. \nTell your friends!
URL:https://wrightwoodevents.com/event/line-dancing/
LOCATION:Wrightwood Community Center\, 1275 Angeles Crest Hwy\, Wrightwood\, CA\, 92397\, United States
ORGANIZER;CN="Wrightwood CSD":MAILTO:office@wrightwoodcsd.org
END:VEVENT
END:VCALENDAR