BEGIN:VCALENDAR
VERSION:2.0
PRODID:-//Wrightwood Events - ECPv6.15.20//NONSGML v1.0//EN
CALSCALE:GREGORIAN
METHOD:PUBLISH
X-WR-CALNAME:Wrightwood Events
X-ORIGINAL-URL:https://wrightwoodevents.com
X-WR-CALDESC:Events for Wrightwood Events
REFRESH-INTERVAL;VALUE=DURATION:PT1H
X-Robots-Tag:noindex
X-PUBLISHED-TTL:PT1H
BEGIN:VTIMEZONE
TZID:America/Los_Angeles
BEGIN:DAYLIGHT
TZOFFSETFROM:-0800
TZOFFSETTO:-0700
TZNAME:PDT
DTSTART:20220313T100000
END:DAYLIGHT
BEGIN:STANDARD
TZOFFSETFROM:-0700
TZOFFSETTO:-0800
TZNAME:PST
DTSTART:20221106T090000
END:STANDARD
BEGIN:DAYLIGHT
TZOFFSETFROM:-0800
TZOFFSETTO:-0700
TZNAME:PDT
DTSTART:20230312T100000
END:DAYLIGHT
BEGIN:STANDARD
TZOFFSETFROM:-0700
TZOFFSETTO:-0800
TZNAME:PST
DTSTART:20231105T090000
END:STANDARD
BEGIN:DAYLIGHT
TZOFFSETFROM:-0800
TZOFFSETTO:-0700
TZNAME:PDT
DTSTART:20240310T100000
END:DAYLIGHT
BEGIN:STANDARD
TZOFFSETFROM:-0700
TZOFFSETTO:-0800
TZNAME:PST
DTSTART:20241103T090000
END:STANDARD
END:VTIMEZONE
BEGIN:VTIMEZONE
TZID:America/Los_Angeles
BEGIN:DAYLIGHT
TZOFFSETFROM:-0800
TZOFFSETTO:-0700
TZNAME:PDT
DTSTART:20220313T100000
END:DAYLIGHT
BEGIN:STANDARD
TZOFFSETFROM:-0700
TZOFFSETTO:-0800
TZNAME:PST
DTSTART:20221106T090000
END:STANDARD
BEGIN:DAYLIGHT
TZOFFSETFROM:-0800
TZOFFSETTO:-0700
TZNAME:PDT
DTSTART:20230312T100000
END:DAYLIGHT
BEGIN:STANDARD
TZOFFSETFROM:-0700
TZOFFSETTO:-0800
TZNAME:PST
DTSTART:20231105T090000
END:STANDARD
BEGIN:DAYLIGHT
TZOFFSETFROM:-0800
TZOFFSETTO:-0700
TZNAME:PDT
DTSTART:20240310T100000
END:DAYLIGHT
BEGIN:STANDARD
TZOFFSETFROM:-0700
TZOFFSETTO:-0800
TZNAME:PST
DTSTART:20241103T090000
END:STANDARD
END:VTIMEZONE
BEGIN:VEVENT
DTSTART;TZID=America/Los_Angeles:20230526T100000
DTEND;TZID=America/Los_Angeles:20230526T160000
DTSTAMP:20260420T074715
CREATED:20230415T163514Z
LAST-MODIFIED:20230415T164336Z
UID:3285-1685095200-1685116800@wrightwoodevents.com
SUMMARY:Cedar Thrift Grand Opening
DESCRIPTION:FRIDAY\, MAY 26\, 2023 AT 10 AM\n\nCedar Thrift Grand Opening
URL:https://wrightwoodevents.com/event/cedar-thrift-grand-opening/
LOCATION:Cedar Thrift Store\, 6040 Cedar St\, Wrightwood\, CA\, 92397\, United States
CATEGORIES:Resident Filter,Shopping,Visitor Filter
ATTACH;FMTTYPE=image/jpeg:https://wrightwoodevents.com/wp-content/uploads/2023/04/Cedar-Thrift.jpg
END:VEVENT
BEGIN:VEVENT
DTSTART;TZID=America/Los_Angeles:20230525T190000
DTEND;TZID=America/Los_Angeles:20230525T200000
DTSTAMP:20260420T074715
CREATED:20230312T181215Z
LAST-MODIFIED:20230312T181215Z
UID:3171-1685041200-1685044800@wrightwoodevents.com
SUMMARY:CERT Monthly Meeting
DESCRIPTION:
URL:https://wrightwoodevents.com/event/cert-monthly-meeting-4/
LOCATION:Community Building\, 1275 Hwy 2\, Wrightwood\, CA\, 92397\, United States
CATEGORIES:Resident Filter
ATTACH;FMTTYPE=image/jpeg:https://wrightwoodevents.com/wp-content/uploads/2023/03/CERT-Logo.jpg
ORGANIZER;CN="Community Emergency Response Team":MAILTO:certwrightwood@gmail.com
END:VEVENT
BEGIN:VEVENT
DTSTART;TZID=America/Los_Angeles:20230520T100000
DTEND;TZID=America/Los_Angeles:20230520T170000
DTSTAMP:20260420T074715
CREATED:20230307T075632Z
LAST-MODIFIED:20230310T182005Z
UID:2919-1684576800-1684602000@wrightwoodevents.com
SUMMARY:Wrightwood Arts & Wine Festival
DESCRIPTION:Saturday\, May 20\, 2023\nThe Wrightwood Arts Center (WAC) and community organizers are excited to announce the second annual Wrightwood Arts & Wine Festival to be held on Saturday\, May 20th. The Festival exemplifies the Arts Center’s commitment to make Wrightwood a destination for dynamic engagement with the arts in Southern California. This one-day\, juried event will feature a wide variety of visual\, culinary\, literary\, musical\, textile\, and performing arts\, along with wine-tasting presented by regional wineries\, and capped off with a poetry slam in the evening. \n  \nArtist Booth Applications\nWe are currently accepting artist applications via the portal at co-sponsor Rattle magazine. Click here to apply! \n  \nSlam Workshop Applications\nWe are also accepting applications for the performance poetry workshop. Twelve poets will be invited to attend the free workshop with Joaquin Zihuatanejo and compete in the slam. Click here to apply! \n  \nAuthor Applications\nWe are also accepting applications for the authors booth. A dozen authors will be invited to share their books. Click here to apply! \n  \nAll Application Deadlines:\nMarch 1st\nMarch 15th
URL:https://wrightwoodevents.com/event/wrightwood-arts-wine-festival/
LOCATION:CA
CATEGORIES:Resident Filter,Visitor Filter
ATTACH;FMTTYPE=image/jpeg:https://wrightwoodevents.com/wp-content/uploads/2023/03/Arts-and-Wine-Festival.jpg
END:VEVENT
BEGIN:VEVENT
DTSTART;TZID=America/Los_Angeles:20230519T090000
DTEND;TZID=America/Los_Angeles:20230519T103000
DTSTAMP:20260420T074715
CREATED:20230312T180935Z
LAST-MODIFIED:20230312T180941Z
UID:3167-1684486800-1684492200@wrightwoodevents.com
SUMMARY:Tri-Community Co-op
DESCRIPTION:Facebook Page: https://www.facebook.com/TriCommunityCoop/
URL:https://wrightwoodevents.com/event/tri-community-co-op-7/
LOCATION:Community Building\, 1275 Hwy 2\, Wrightwood\, CA\, 92397\, United States
CATEGORIES:Resident Filter
ATTACH;FMTTYPE=image/png:https://wrightwoodevents.com/wp-content/uploads/2023/03/IMG_3477.png
ORGANIZER;CN="Tri-Community Co-op":MAILTO:tricommunitycoop@gmail.com
END:VEVENT
BEGIN:VEVENT
DTSTART;TZID=America/Los_Angeles:20230518T170000
DTEND;TZID=America/Los_Angeles:20230518T210000
DTSTAMP:20260420T074715
CREATED:20230312T181121Z
LAST-MODIFIED:20230312T181121Z
UID:3169-1684429200-1684443600@wrightwoodevents.com
SUMMARY:Lions Club General Meeting
DESCRIPTION:
URL:https://wrightwoodevents.com/event/lions-club-general-meeting-3/
LOCATION:Community Building\, 1275 Hwy 2\, Wrightwood\, CA\, 92397\, United States
CATEGORIES:Resident Filter
ATTACH;FMTTYPE=image/png:https://wrightwoodevents.com/wp-content/uploads/2023/03/Timberline-Lions-Club.png
ORGANIZER;CN="Timberline Lions Club of Wrightwood":MAILTO:vic3407@gmail.com
END:VEVENT
BEGIN:VEVENT
DTSTART;TZID=America/Los_Angeles:20230516T170000
DTEND;TZID=America/Los_Angeles:20230516T200000
DTSTAMP:20260420T074715
CREATED:20230312T180848Z
LAST-MODIFIED:20230312T180848Z
UID:3165-1684256400-1684267200@wrightwoodevents.com
SUMMARY:Wrightwood Fire Safe Council
DESCRIPTION:
URL:https://wrightwoodevents.com/event/wrightwood-fire-safe-council-3/
LOCATION:Community Building\, 1275 Hwy 2\, Wrightwood\, CA\, 92397\, United States
CATEGORIES:Resident Filter
ATTACH;FMTTYPE=image/png:https://wrightwoodevents.com/wp-content/uploads/2023/03/1651085868694.png
ORGANIZER;CN="Wrightwood Fire Safe Council":MAILTO:john@wrightwoodcalif.com
END:VEVENT
BEGIN:VEVENT
DTSTART;TZID=America/Los_Angeles:20230513T100000
DTEND;TZID=America/Los_Angeles:20230513T150000
DTSTAMP:20260420T074715
CREATED:20230312T181415Z
LAST-MODIFIED:20230312T181541Z
UID:3173-1683972000-1683990000@wrightwoodevents.com
SUMMARY:Wildfire & Disaster Awareness Day
DESCRIPTION:Wildfire & Disaster Awareness Day
URL:https://wrightwoodevents.com/event/3173/
LOCATION:Mountain Hardware\, 1390 State Highway 2\, Wrightwood\, CA\, 92397\, United States
CATEGORIES:Resident Filter,Visitor Filter
ORGANIZER;CN="Wrightwood Fire Safe Council":MAILTO:john@wrightwoodcalif.com
END:VEVENT
BEGIN:VEVENT
DTSTART;TZID=America/Los_Angeles:20230509T183000
DTEND;TZID=America/Los_Angeles:20230509T203000
DTSTAMP:20260420T074715
CREATED:20230312T180801Z
LAST-MODIFIED:20230312T180801Z
UID:3163-1683657000-1683664200@wrightwoodevents.com
SUMMARY:Pine Needles Quilt Guild
DESCRIPTION:Organizer\n\nPine Needles Quilt Guild\nPhone:\n760-408-3545\nEmail:\nlynnjcrawford@gmail.com
URL:https://wrightwoodevents.com/event/pine-needles-quilt-guild-3/
LOCATION:CSD Building\, 1275 Hwy 2\, Wrightwood\, CA\, 92397\, United States
CATEGORIES:Resident Filter,Visitor Filter
END:VEVENT
BEGIN:VEVENT
DTSTART;TZID=America/Los_Angeles:20230506T120000
DTEND;TZID=America/Los_Angeles:20230506T170000
DTSTAMP:20260420T074715
CREATED:20230330T012236Z
LAST-MODIFIED:20230504T232633Z
UID:3259-1683374400-1683392400@wrightwoodevents.com
SUMMARY:Wrightwood Brew Co
DESCRIPTION:2023 Spring Fling at Wrightwood Brew Co \nSaturday May 12-5PM at the CSD Parking Lot \n \n 
URL:https://wrightwoodevents.com/event/wrightwood-brew-co/
LOCATION:Community Building\, 1275 Hwy 2\, Wrightwood\, CA\, 92397\, United States
CATEGORIES:Food,Resident Filter,Visitor Filter
ATTACH;FMTTYPE=image/jpeg:https://wrightwoodevents.com/wp-content/uploads/2023/04/Spring-Fling.jpg
END:VEVENT
BEGIN:VEVENT
DTSTART;TZID=America/Los_Angeles:20230506T103000
DTEND;TZID=America/Los_Angeles:20230506T160000
DTSTAMP:20260420T074715
CREATED:20230221T101651Z
LAST-MODIFIED:20230417T224054Z
UID:67-1683369000-1683388800@wrightwoodevents.com
SUMMARY:Cedar Street Market
DESCRIPTION:Join us for the first ever Cedar Street Market on April 1st. An event by Wrightwood MetalWorks & The Wrightwood Artisans Boutique. 2 properties full of vendors\, artists\, crafts and food. Come be apart of this awesome event to provide more things to do in Wrightwood. Message me for the link to sign up for your vendor spot or follow the QR code below.
URL:https://wrightwoodevents.com/event/cedar-street-market/
LOCATION:Cedar Street\, 6040 Cedar St\, Wrightwood\, CA\, 92397\, United States
CATEGORIES:Resident Filter,Visitor Filter
ATTACH;FMTTYPE=image/jpeg:https://wrightwoodevents.com/wp-content/uploads/2023/02/Cedar-Market.jpg
END:VEVENT
BEGIN:VEVENT
DTSTART;TZID=America/Los_Angeles:20230506T100000
DTEND;TZID=America/Los_Angeles:20230506T120000
DTSTAMP:20260420T074715
CREATED:20230503T001327Z
LAST-MODIFIED:20230503T001339Z
UID:3355-1683367200-1683374400@wrightwoodevents.com
SUMMARY:Grand Opening - Hollis Stewart Children's Park
DESCRIPTION:Join us for this community event and celebrate the grand re-opening of our children’s park. \nLight snacks and refreshments will be served. \n \n 
URL:https://wrightwoodevents.com/event/grand-opening-hollis-stewart-childrens-park/
LOCATION:Hollis M Stewart Childrens Park\, 6059 Pine St\, Wrightwood\, CA\, 92397\, United States
ATTACH;FMTTYPE=image/jpeg:https://wrightwoodevents.com/wp-content/uploads/2023/05/Grand-Opening-Park-618x800-1.jpg
ORGANIZER;CN="Wrightwood CSD":MAILTO:office@wrightwoodcsd.org
END:VEVENT
BEGIN:VEVENT
DTSTART;TZID=America/Los_Angeles:20230505T120000
DTEND;TZID=America/Los_Angeles:20230505T170000
DTSTAMP:20260420T074715
CREATED:20230330T012215Z
LAST-MODIFIED:20230330T012215Z
UID:3257-1683288000-1683306000@wrightwoodevents.com
SUMMARY:Cinco De Mayo
DESCRIPTION: 
URL:https://wrightwoodevents.com/event/cinco-de-mayo/
LOCATION:Wrightwood Brew Co\, 1257 Apple Avenue\, Wrightwood\, CA\, 92397\, United States
CATEGORIES:Food,Resident Filter,Visitor Filter
ATTACH;FMTTYPE=image/webp:https://wrightwoodevents.com/wp-content/uploads/2023/02/Brew-Co.webp
END:VEVENT
END:VCALENDAR