BEGIN:VCALENDAR
VERSION:2.0
PRODID:-//Wrightwood Events - ECPv6.15.20//NONSGML v1.0//EN
CALSCALE:GREGORIAN
METHOD:PUBLISH
X-WR-CALNAME:Wrightwood Events
X-ORIGINAL-URL:https://wrightwoodevents.com
X-WR-CALDESC:Events for Wrightwood Events
REFRESH-INTERVAL;VALUE=DURATION:PT1H
X-Robots-Tag:noindex
X-PUBLISHED-TTL:PT1H
BEGIN:VTIMEZONE
TZID:America/Los_Angeles
BEGIN:DAYLIGHT
TZOFFSETFROM:-0800
TZOFFSETTO:-0700
TZNAME:PDT
DTSTART:20230312T100000
END:DAYLIGHT
BEGIN:STANDARD
TZOFFSETFROM:-0700
TZOFFSETTO:-0800
TZNAME:PST
DTSTART:20231105T090000
END:STANDARD
BEGIN:DAYLIGHT
TZOFFSETFROM:-0800
TZOFFSETTO:-0700
TZNAME:PDT
DTSTART:20240310T100000
END:DAYLIGHT
BEGIN:STANDARD
TZOFFSETFROM:-0700
TZOFFSETTO:-0800
TZNAME:PST
DTSTART:20241103T090000
END:STANDARD
BEGIN:DAYLIGHT
TZOFFSETFROM:-0800
TZOFFSETTO:-0700
TZNAME:PDT
DTSTART:20250309T100000
END:DAYLIGHT
BEGIN:STANDARD
TZOFFSETFROM:-0700
TZOFFSETTO:-0800
TZNAME:PST
DTSTART:20251102T090000
END:STANDARD
END:VTIMEZONE
BEGIN:VEVENT
DTSTART;TZID=America/Los_Angeles:20241129T100000
DTEND;TZID=America/Los_Angeles:20241129T200000
DTSTAMP:20260421T075739
CREATED:20240112T013550Z
LAST-MODIFIED:20240112T013550Z
UID:3968-1732874400-1732910400@wrightwoodevents.com
SUMMARY:The Wrightwood Mountain Holiday Celebration
DESCRIPTION:Kick off the holiday season with us! Join us for the Parade & other festivities! Be sure to support our local businesses and get some shopping done! \nNovember 29th & 30th\, 2024 \n 
URL:https://wrightwoodevents.com/event/the-wrightwood-mountain-holiday-celebration-3/
CATEGORIES:Resident Filter,Shopping,Visitor Filter
ATTACH;FMTTYPE=image/png:https://wrightwoodevents.com/wp-content/uploads/2024/01/holiday-opt.png
END:VEVENT
END:VCALENDAR