BEGIN:VCALENDAR
VERSION:2.0
PRODID:-//Wrightwood Events - ECPv6.15.20//NONSGML v1.0//EN
CALSCALE:GREGORIAN
METHOD:PUBLISH
X-WR-CALNAME:Wrightwood Events
X-ORIGINAL-URL:https://wrightwoodevents.com
X-WR-CALDESC:Events for Wrightwood Events
REFRESH-INTERVAL;VALUE=DURATION:PT1H
X-Robots-Tag:noindex
X-PUBLISHED-TTL:PT1H
BEGIN:VTIMEZONE
TZID:America/Los_Angeles
BEGIN:DAYLIGHT
TZOFFSETFROM:-0800
TZOFFSETTO:-0700
TZNAME:PDT
DTSTART:20220313T100000
END:DAYLIGHT
BEGIN:STANDARD
TZOFFSETFROM:-0700
TZOFFSETTO:-0800
TZNAME:PST
DTSTART:20221106T090000
END:STANDARD
BEGIN:DAYLIGHT
TZOFFSETFROM:-0800
TZOFFSETTO:-0700
TZNAME:PDT
DTSTART:20230312T100000
END:DAYLIGHT
BEGIN:STANDARD
TZOFFSETFROM:-0700
TZOFFSETTO:-0800
TZNAME:PST
DTSTART:20231105T090000
END:STANDARD
BEGIN:DAYLIGHT
TZOFFSETFROM:-0800
TZOFFSETTO:-0700
TZNAME:PDT
DTSTART:20240310T100000
END:DAYLIGHT
BEGIN:STANDARD
TZOFFSETFROM:-0700
TZOFFSETTO:-0800
TZNAME:PST
DTSTART:20241103T090000
END:STANDARD
END:VTIMEZONE
BEGIN:VEVENT
DTSTART;TZID=America/Los_Angeles:20231223T160000
DTEND;TZID=America/Los_Angeles:20231223T200000
DTSTAMP:20260422T014554
CREATED:20231223T003236Z
LAST-MODIFIED:20231223T003236Z
UID:3780-1703347200-1703361600@wrightwoodevents.com
SUMMARY:Grand Opening Tintypes Photography
DESCRIPTION:Come check out the grand opening/Christmas party at Modern Tintype Wrightwood\, this Saturday\, December 23\, from 4-8PM. I shoot the 19th-century wet plate (tintype) process as well as film and digital\, and offer portraits\, still life’s and landscapes. Original tintypes and prints will be available to purchase\, and if you’d like a portrait\, I’ll be scheduling sessions for after Christmas. Located at 1263 Evergreen Rd\, right next to Hair in the Woods. \n  \nFollow Us on Instagram \nhttps://www.instagram.com/moderntintype.photo/?hl=en \nAbout Michael the Owner and Tintype Photographer Artist: \n\nMichael Chylinski Preserves the Dreamlike World of Wet Plate Photography
URL:https://wrightwoodevents.com/event/grand-opening-tintypes-photography/
LOCATION:Modern Tintypes Photography\, 1263 Evergreen Rd\, Wrightwood\, 92397\, United States
CATEGORIES:Shopping,Visitor Filter
ATTACH;FMTTYPE=image/jpeg:https://wrightwoodevents.com/wp-content/uploads/2023/12/cameraRollTempImage.jpg
END:VEVENT
END:VCALENDAR